BEGIN:VCALENDAR
VERSION:2.0
PRODID:-//ChamberMaster//Event Calendar 2.0//EN
METHOD:PUBLISH
X-PUBLISHED-TTL:P3D
REFRESH-INTERVAL:P3D
CALSCALE:GREGORIAN
BEGIN:VEVENT
DTSTART:20181020T210000Z
DTEND:20181020T231000Z
X-MICROSOFT-CDO-ALLDAYEVENT:FALSE
SUMMARY:1987 When the Day Comes 2017 Free Film Screening
DESCRIPTION:Presented By: Urban Ranger Mobile Cinema Info: ReconAlphaOne@gmail.com Venue: Renton Public KCLS Main library in the King Parker meeting room. Date: Saturday\, October 20th Seating: 1:00-2:00pm Showtime: 2:00pm-4:10pm Admission: Free\; first come first served Seats: 44 max Language: Korean Subtitle: English (Custom) MPAA Rating: None. Strong language. Parental guidance is advised Running Time: 129 minutes (2 hours 9 minutes) Official Trailer: https://m.youtube.com/watch?v=eTzBIH51Irc Event Poster: http://tinypic.com/r/2m5o7bt/9
X-ALT-DESC;FMTTYPE=text/html:Presented By: Urban Ranger Mobile Cinema Info: ReconAlphaOne@gmail.com Venue: Renton Public KCLS Main library in the King Parker meeting room. Date: Saturday\, October 20th Seating: 1:00-2:00pm Showtime: 2:00pm-4:10pm Admission: Free\; first come first served Seats: 44 max Language: Korean Subtitle: English (Custom) MPAA Rating: None. Strong language. Parental guidance is advised Running Time: 129 minutes (2 hours 9 minutes) Official Trailer: https://m.youtube.com/watch?v=eTzBIH51Irc Event Poster: http://tinypic.com/r/2m5o7bt/9
LOCATION:Renton Public Library KCLS Main Branch King Parker meeting room 100 Mill Ave S\, Renton\, WA 98057
UID:e.16.5918
SEQUENCE:3
DTSTAMP:20260424T134539Z
URL:https://chamber.gorenton.com/events/details/1987-when-the-day-comes-2017-free-film-screening-5918
END:VEVENT

END:VCALENDAR
