BEGIN:VCALENDAR
VERSION:2.0
PRODID:-//ChamberMaster//Event Calendar 2.0//EN
METHOD:PUBLISH
X-PUBLISHED-TTL:P3D
REFRESH-INTERVAL:P3D
CALSCALE:GREGORIAN
BEGIN:VEVENT
DTSTART:20190611T010000Z
DTEND:20190611T030000Z
X-MICROSOFT-CDO-ALLDAYEVENT:FALSE
SUMMARY:1st Annual Downtown Renton River Valley Cheese Crawl!
DESCRIPTION:Chamber Members Exclusive Experience Opportunity"  .. RSVP IS REQUIRED\n\n\n\nEVENT FULL - WAITING LIST ONLY - CALL TO BE ADDED AND FOR MORE DETAILS.\n\n\n\nWe are partnering with a handful of local Chamber Members to offer the 1st Annual Downtown Renton River Valley Cheese Crawl!\nA limited number of select Chamber Members will have the opportunity to visit 3 different Chamber locations  ..  sampling 3 different course opportunities that (new Chamber member) "Big Cheese & Creativologist" Kristi Slotemaker offers through River Valley Cheese     \n\n \n\n+  experience cheese making  with River Valley Cheese at Bubbal Banquet\,\n\n+  bring on the yeast for sourdough bread making with Elsie Baked Goods at Four Generals Brewing\n\n+  and delicious chocolate candy making with Traveling Chocolate Factory at Boon Boona Coffee.  \n\n\n\nEnd the Crawl with a celebratory kick off at River Valley Cheese ---- where Kristi is starting the next chapter in her journey ---- and wish her luck on her future endeavors!
X-ALT-DESC;FMTTYPE=text/html:<br />\n<span style="font-size:16px\;"><strong><u><span style="background:white\;"><span style="color:#333333\;"><span style="font-family:arial\,sans-serif\;">Chamber Members Exclusive</span></span></span></u></strong><strong><span style="background:white\;"><span style="color:#333333\;"><span style="font-family:arial\,sans-serif\;">&nbsp\;Experience Opportunity&rdquo\; &hellip\;.. RSVP IS REQUIRED</span></span></span></strong></span><br />\n<br />\n<strong><span style="font-family: sans-serif\; font-size: 14.6667px\; background-color: rgb(255\, 255\, 255)\;">EVENT FULL - WAITING LIST ONLY - CALL TO BE ADDED AND FOR MORE DETAILS.</span></strong><br />\n<br />\n<span style="font-size:16px\;"><span style="margin: 0px\; padding: 0px\; border: 0px\; font-style: inherit\; font-variant: inherit\; font-weight: inherit\; font-stretch: inherit\; line-height: inherit\; font-family: inherit\; vertical-align: baseline\; color: inherit\;">We are partnering with a handful of local Chamber Members to offer the 1st Annual Downtown Renton River Valley Cheese Crawl!</span></span>\n<p style="background-color: rgb(255\, 255\, 255)\; font-size: 11pt\; font-family: Calibri\, sans-serif\; margin: 0px\;"><span style="font-size:16px\;">A limited number of select Chamber Members will have the opportunity to visit 3 different Chamber locations &hellip\;.. &nbsp\;sampling 3 different course opportunities that (new Chamber member) &ldquo\;Big Cheese &amp\; Creativologist&rdquo\; Kristi Slotemaker offers through<em><strong> </strong></em><a href="https://www.rivervalleycheese.com/"><span style="color:#0000FF\;"><strong><em><strong>River Valley Cheese</strong></em> </strong></span></a>&hellip\;&hellip\;&nbsp\;&nbsp\;</span></p>\n\n<p style="background-color: rgb(255\, 255\, 255)\; font-size: 11pt\; font-family: Calibri\, sans-serif\; margin: 0px\;">&nbsp\;</p>\n\n<p style="background-color: rgb(255\, 255\, 255)\; font-size: 11pt\; font-family: Calibri\, sans-serif\; margin: 0px\;"><span style="font-size:16px\;"><span style="margin: 0px\; padding: 0px\; border: 0px\; font-style: inherit\; font-variant: inherit\; font-weight: inherit\; font-stretch: inherit\; line-height: inherit\; font-family: inherit\; vertical-align: baseline\; color: inherit\;">+&nbsp\; experience&nbsp\;<b>cheese making</b>&nbsp\; with <strong>River Valley Cheese</strong> at </span><a href="http://www.bubbalbanquet.com/"><em><strong><span style="color:#0000FF\;"><span style="margin: 0px\; padding: 0px\; border: 0px\; font-style: inherit\; font-variant: inherit\; font-weight: inherit\; font-stretch: inherit\; line-height: inherit\; font-family: inherit\; vertical-align: baseline\;">Bubbal Banquet\,</span></span></strong></em></a></span></p>\n\n<p style="background-color: rgb(255\, 255\, 255)\; font-size: 11pt\; font-family: Calibri\, sans-serif\; margin: 0px\;"><span style="font-size:16px\;"><span style="margin: 0px\; padding: 0px\; border: 0px\; font-style: inherit\; font-variant: inherit\; font-weight: inherit\; font-stretch: inherit\; line-height: inherit\; font-family: inherit\; vertical-align: baseline\; color: inherit\;">+&nbsp\; bring on the yeast for&nbsp\;<b>sourdough bread making</b>&nbsp\;with<em> </em></span><em><a href="https://www.facebook.com/pages/category/Bakery/Elsie-Baked-Goods-283716138946468/"><strong><span style="color:#0000FF\;"><span style="margin: 0px\; padding: 0px\; border: 0px\; font-style: inherit\; font-variant: inherit\; font-weight: inherit\; font-stretch: inherit\; line-height: inherit\; font-family: inherit\; vertical-align: baseline\;">Elsie Baked Goods</span></span></strong></a></em><span style="margin: 0px\; padding: 0px\; border: 0px\; font-style: inherit\; font-variant: inherit\; font-weight: inherit\; font-stretch: inherit\; line-height: inherit\; font-family: inherit\; vertical-align: baseline\; color: inherit\;"><em> </em>at </span><a href="http://www.fourgenerals.com/"><em><strong><span style="color:#0000FF\;"><span style="margin: 0px\; padding: 0px\; border: 0px\; font-style: inherit\; font-variant: inherit\; font-weight: inherit\; font-stretch: inherit\; line-height: inherit\; font-family: inherit\; vertical-align: baseline\;">Four Generals Brewing</span></span></strong></em></a></span></p>\n\n<p style="background-color: rgb(255\, 255\, 255)\; font-size: 11pt\; font-family: Calibri\, sans-serif\; margin: 0px\;"><span style="font-size:16px\;"><span style="margin: 0px\; padding: 0px\; border: 0px\; font-style: inherit\; font-variant: inherit\; font-weight: inherit\; font-stretch: inherit\; line-height: inherit\; font-family: inherit\; vertical-align: baseline\; color: inherit\;">+&nbsp\; and delicious&nbsp\;<b>chocolate candy making</b>&nbsp\;with </span><em><span style="margin: 0px\; padding: 0px\; border: 0px\; font-style: inherit\; font-variant: inherit\; font-weight: inherit\; font-stretch: inherit\; line-height: inherit\; font-family: inherit\; vertical-align: baseline\;"><a href="http://travelingchocolatecompany.com/"><span style="color:#0000FF\;"><strong>Traveling Chocolate Factory</strong></span></a></span></em><span style="margin: 0px\; padding: 0px\; border: 0px\; font-style: inherit\; font-variant: inherit\; font-weight: inherit\; font-stretch: inherit\; line-height: inherit\; font-family: inherit\; vertical-align: baseline\; color: inherit\;"> at </span><a href="https://www.boonboonacoffee.com/"><em><strong><span style="color:#0000FF\;"><span style="margin: 0px\; padding: 0px\; border: 0px\; font-style: inherit\; font-variant: inherit\; font-weight: inherit\; font-stretch: inherit\; line-height: inherit\; font-family: inherit\; vertical-align: baseline\;">Boon Boona Coffee</span>.&nbsp\;&nbsp\;</span></strong></em></a><br />\n<br />\nEnd the Crawl with a celebratory kick off at River Valley Cheese ---- where Kristi is starting the next chapter in her journey ---- and wish her luck on her future endeavors!</span></p>\n\n<div>&nbsp\;</div>\n
LOCATION:Downtown Renton Start at River Valley Cheese 826 S 3rd St. Renton\, WA 98957
UID:e.16.6547
SEQUENCE:3
DTSTAMP:20260424T021922Z
URL:https://chamber.gorenton.com/events/details/1st-annual-downtown-renton-river-valley-cheese-crawl-6547
END:VEVENT

END:VCALENDAR
