BEGIN:VCALENDAR
VERSION:2.0
PRODID:-//ChamberMaster//Event Calendar 2.0//EN
METHOD:PUBLISH
X-PUBLISHED-TTL:P3D
REFRESH-INTERVAL:P3D
CALSCALE:GREGORIAN
BEGIN:VEVENT
DTSTART:20181005T003000Z
DTEND:20181005T033000Z
X-MICROSOFT-CDO-ALLDAYEVENT:FALSE
SUMMARY:2018 AHEAD OF THE CARE
DESCRIPTION:There is no denying the healthcare community has grown by leaps and bounds in Renton. It's time to celebrate this growing sector of our community. The Renton Chamber of Commerce\, UW/Valley Medicine\, Kaiser Permanente and several  partners have joined together to honor the standout healthcare employees within these organizations.\n\n\n\nThe Ahead of the Care award program is a partnership between the Renton Chamber of Commerce and Renton's healthcare leaders. It is part of the Chamber's effort to highlight business sectors and individuals that make Renton a better community. The program's aim is to enhance awareness of the excellence of those that provide healthcare to our community.\n\n\n\nThe award ceremony will be a plated dinner with a wine selection and also a cash bar.\n\n \nPre-Plated at Table: Mixed Green Salad\, Candied Pecans\, Mozzarella w/honey Dijon\, Fresh sliced Baguettes and butter\n\nPlated Dinner: Thin sliced grilled flank steak w/ Demi & Grilled Soy-Lime Salmon\, Seasoned wild rice\, green beans with roasted carrots\n\nAssorted Desserts: Lemon Bar\, Brownies\, Coconut Dream & Chocolate Raspberry bar\n Each Table will have a bottle of white and a bottle of red that comes with price of admission.\n\n\n\nHOW IT WORKS \n\n\n\nRenton healthcare employees are nominated as difference makers from patients\, peers\, employers\, etc. Nominations are opened through the Chamber\, Renton Reporter\, and every channel available in the below eight categories.\n\n \nDoctors\n\nFirst Responders\n\nBehavioral Health\n\nAllied Health - Supportive Roles/Pharmacists/Anesthesiologist/Integral Support/Dentists\n\nHuman Services/Health\n\nNurses\n\nSenior Care Services\n\nHealthcare Support Services - Non Patient Interaction/Housekeeping/Security/Reception/IT\n\n\nAfter a short nomination period 3-5 individuals will be picked in each category. A selection committee of community professionals will interview the finalists. Next step is the ceremony. This year's event will be October 4th. The finalists are invited to an awards ceremony at Renton Pavilion Event Center. The winners will receive a trophy and a prize package of items donated from our community.\n\n\n\nYou can nominate HERE
X-ALT-DESC;FMTTYPE=text/html:<span style="font-size: 14px\;"><span style="font-family: times new roman\;"><span style="color: rgb(33\, 30\, 30)\;"><b><i>There is no denying the healthcare community has grown by leaps and bounds in Renton. It&#39\;s time to celebrate this growing sector of our community. The Renton Chamber of Commerce\, UW/Valley Medicine\, Kaiser Permanente and several&nbsp\; partners have joined together to honor the standout healthcare employees within these organizations.</i></b></span></span><br />\n<br />\nThe Ahead of the Care award program is a partnership between the Renton Chamber of Commerce and Renton&#39\;s healthcare leaders. It is part of the Chamber&#39\;s effort to highlight business sectors and individuals that make Renton a better community. The program&#39\;s aim is to enhance awareness of the excellence of those that provide healthcare to our community.<br />\n<br />\nThe award ceremony will be a plated dinner with a wine selection and also a cash bar.</span><br />\n&nbsp\;\n<p style="margin: 0px\; line-height: 150%\;"><span style="font-family:arial\;"><font color="#000000"><b><span style="margin: 0px\; line-height: 150%\;">Pre-Plated at Table: </span></b>Mixed Green Salad\, Candied Pecans\, Mozzarella w/honey Dijon\, Fresh sliced Baguettes and butter</font></span></p>\n\n<p style="margin: 0px\; line-height: 150%\;"><span style="font-family:arial\;"><font color="#000000"><b><span style="margin: 0px\; line-height: 150%\;">Plated Dinner: </span></b><span style="margin: 0px\; line-height: 150%\;">Thin sliced grilled flank steak w/ Demi &amp\; Grilled Soy-Lime Salmon\, Seasoned wild rice\, green beans with roasted carrots<br />\n<strong>Assorted Desserts:</strong>&nbsp\;</span></font><font color="#000000">Lemon Bar\, Brownies\, Coconut Dream &amp\; Chocolate Raspberry bar</font></span></p>\n<span style="font-family:arial\;"> </span><strong><span style="font-family:arial\;">Each Table will have a bottle of white and a bottle of red that comes with price of admission.</span></strong><br />\n<br />\n<span style="font-size: 14px\;"><strong><span style="color: rgb(33\, 30\, 30)\;">HOW IT WORKS </span></strong><br />\n<br />\n<span style="color: rgb(33\, 30\, 30)\;">Renton healthcare employees are nominated as </span><strong><span style="color: rgb(33\, 30\, 30)\;">difference makers </span></strong><span style="color: rgb(33\, 30\, 30)\;">from patients\, peers\, employers\, etc. Nominations are opened through the Chamber\, Renton Reporter\, and every channel available in the below eight categories.</span></span><br />\n&nbsp\;\n<p style="margin: 0px\; line-height: normal\;"><strong><span style="margin: 0px\;"><font color="#000000" face="Calibri" size="3">Doctors</font></span></strong></p>\n\n<p style="margin: 0px\; line-height: normal\;"><strong><span style="margin: 0px\;"><font color="#000000" face="Calibri" size="3">First Responders</font></span></strong></p>\n\n<p style="margin: 0px\; line-height: normal\;"><strong><span style="margin: 0px\;"><font color="#000000" face="Calibri" size="3">Behavioral Health</font></span></strong></p>\n\n<p style="margin: 0px\; line-height: normal\;"><strong><span style="margin: 0px\;"><font color="#000000" face="Calibri" size="3">Allied Health - Supportive Roles/Pharmacists/Anesthesiologist/Integral Support/Dentists</font></span></strong></p>\n\n<p style="margin: 0px\; line-height: normal\;"><strong><span style="margin: 0px\;"><font color="#000000" face="Calibri" size="3">Human Services/Health</font></span></strong></p>\n\n<p style="margin: 0px\; line-height: normal\;"><strong><span style="margin: 0px\;"><font color="#000000" face="Calibri" size="3">Nurses</font></span></strong></p>\n\n<p style="margin: 0px\; line-height: normal\;"><strong><span style="margin: 0px\;"><font color="#000000" face="Calibri" size="3">Senior Care Services</font></span></strong></p>\n\n<p style="margin: 0px\; line-height: normal\;"><strong><span style="margin: 0px\;"><font color="#000000" face="Calibri" size="3">Healthcare Support Services - Non Patient Interaction/Housekeeping/Security/Reception/IT</font></span></strong></p>\n<br />\n<span style="font-size: 14px\;"><span style="color: rgb(33\, 30\, 30)\;">After a short nomination period 3-5 individuals will be picked in each category. A selection committee of community professionals will interview the finalists. </span><span style="color: rgb(33\, 30\, 30)\;">Next step is the ceremony. </span><strong><span style="color: rgb(33\, 30\, 30)\;">This year&#39\;s event will be October 4th. </span></strong><span style="color: rgb(33\, 30\, 30)\;">The finalists are invited to an awards ceremony at </span><strong><span style="color: rgb(33\, 30\, 30)\;">Renton Pavilion Event Center</span></strong><span style="color: rgb(33\, 30\, 30)\;">. The winners will receive a trophy and a prize package of items donated from our community.</span></span><br />\n<br />\n<strong><span style="font-size:16px\;">You can nominate <em><a href="http://survey.constantcontact.com/survey/a07efnn5jt8jlgz4blo/start"><span style="color:#0000FF\;">HERE</span></a></em></span></strong><br />\n<br />\n<br />\n&nbsp\;
LOCATION:Renton Pavilion Event Center 233 Burnett Ave S.\, Renton\, WA 98057
UID:e.16.5371
SEQUENCE:3
DTSTAMP:20260424T134534Z
URL:https://chamber.gorenton.com/events/details/2018-ahead-of-the-care-5371
END:VEVENT

END:VCALENDAR
