BEGIN:VCALENDAR
VERSION:2.0
PRODID:-//ChamberMaster//Event Calendar 2.0//EN
METHOD:PUBLISH
X-PUBLISHED-TTL:P3D
REFRESH-INTERVAL:P3D
CALSCALE:GREGORIAN
BEGIN:VEVENT
DTSTART:20180202T000000Z
DTEND:20180202T010000Z
X-MICROSOFT-CDO-ALLDAYEVENT:FALSE
SUMMARY:2018 Business and Education Exchange Kick Off
DESCRIPTION:For the last 10+ years the Renton Chamber has hosted a Business and Education Exchange program allowing teachers and businesses to pair up and spend some time together.  After all\, our business community is interested in their future employees and educators want to make sure they are on track to equip students with all the possibilities for a career. \n\n \n\nThis year we are asking some of our larger employers to provide a tour of their operations after 4:00 PM the month of February.  The teachers meet at the Renton Chamber and a tour shuttle will be provided on specific dates.  Only 10 per tour and to be the first on the list\, the teachers can register at the upcoming Business and Education Exchange at Renton High School\, starts at 4 PM with a light dinner provided. \n\n \n\nThe tours include Boeing\, PACCAR\, City of Renton\, Renton School District Transportation\, Renton Technical College\, Renton Coil Spring\, Hyatt/SECO\, First Financial Northwest Bank and VMAC (Seahawks).  These tours are up close and personal tours allowing you access to areas not open to the public. \n\n \n\nPlease plan to attend the meeting on February 1st\, 4:00 PM at Renton High School (Commons Area).  We will feed you and get you out quick.  The advantage to being at the meeting is you get to sign up for a tour first.  Only 10 teachers per tour.  We expect these tours to be very popular and fill quickly.  At this time only 1 tour per teacher.  \n\n\n\nBusiness leaders are matched with Renton school administrators and teachers\, they spend time at each others place of work. Great partnerships between education and business have started through this program.\n\n\n\n Teams are encouraged to answer the following questions about their experience.\n\n\n\n  What are your most significant observations from your exchange visit?\n\n  What significant observations do you think your partner came away with?\n\n  What successes are evident in my partners business or classroom?\n\n  What challenges does my partner face in business or the classroom?\n\n  What are the major differences or similarities in or workplaces/workdays?\n\n  How can we work together in the future for our kids and our community? \n\n \n\nTHANK YOU TO OUR SPONSORS FIRST FINANCIAL NORTHWEST BANK AND COLUMBIA BANK!
X-ALT-DESC;FMTTYPE=text/html:<div>For the last 10+ years the Renton Chamber has hosted a Business and Education Exchange program allowing teachers and businesses to pair up and spend some time together.&nbsp\; After all\, our business community is interested in their future employees and educators want to make sure they are on track to equip students with all the possibilities for a career.&nbsp\;<br />\n&nbsp\;<br />\n<strong>This year we are asking some of our larger employers to provide a tour of their operations after 4:00 PM the month of February</strong>.&nbsp\; The teachers meet at the Renton Chamber and a tour shuttle will be provided on specific dates.&nbsp\; Only 10 per tour and to be the <strong>first on the list</strong>\, the teachers can register at the upcoming Business and Education Exchange at Renton High School\, starts at 4 PM with a light dinner provided.&nbsp\;<br />\n&nbsp\;<br />\nThe tours include Boeing\, PACCAR\, City of Renton\, Renton School District Transportation\, Renton Technical College\, Renton Coil Spring\, Hyatt/SECO\, First Financial Northwest Bank and VMAC (Seahawks).&nbsp\; These tours are up close and personal tours allowing you access to areas not open to the public.&nbsp\;<br />\n&nbsp\;<br />\nPlease plan to attend the meeting on February 1<sup>st</sup>\, 4:00 PM at Renton High School (Commons Area).&nbsp\; We will feed you and get you out quick.&nbsp\; <strong>The advantage to being at the meeting is you get to sign up for a tour first.&nbsp\; Only 10 teachers per tour.&nbsp\; We expect these tours to be very popular and fill quickly.&nbsp\; At this time only 1 tour per teacher.&nbsp\; </strong><br />\n<br />\n<span style="font-family:arial\;"><span style="font-size:12.0pt\;">Business leaders are matched with Renton school administrators and teachers\, they&nbsp\;spend time at each others place of work. Great partnerships between education and business have&nbsp\;started through this program.<br />\n<br />\n&#8203\;Teams are encouraged to answer the following questions about their experience.</span></span><br />\n<br />\n<span style="direction:\nunicode-bidi:embed\;language:x-none\;"><span style="color:black\;"><span style="font-size:10.0pt\;"><span style="font-family:symbol\;">&middot\;</span></span></span></span>&nbsp\;<span style="font-style:\nlanguage:en-US\;"><span style="font-family:arial\;"><span style="font-size:12.0pt\;">What are your most significant observations from your exchange visit?</span></span></span><br />\n<span style="direction:\nunicode-bidi:embed\;language:x-none\;"><span style="color:black\;"><span style="font-size:10.0pt\;"><span style="font-family:symbol\;">&middot\;</span></span></span></span>&nbsp\;<span style="font-style:\nlanguage:en-US\;"><span style="font-family:arial\;"><span style="font-size:12.0pt\;">What significant observations do you think your partner came away with?</span></span></span><br />\n<span style="direction:\nunicode-bidi:embed\;language:x-none\;"><span style="color:black\;"><span style="font-size:10.0pt\;"><span style="font-family:symbol\;">&middot\;</span></span></span></span>&nbsp\;<span style="font-style:\nlanguage:en-US\;"><span style="font-family:arial\;"><span style="font-size:12.0pt\;">What successes are evident in my partners business or classroom?</span></span></span><br />\n<span style="direction:\nunicode-bidi:embed\;language:x-none\;"><span style="color:black\;"><span style="font-size:10.0pt\;"><span style="font-family:symbol\;">&middot\;</span></span></span></span>&nbsp\;<span style="font-style:\nlanguage:en-US\;"><span style="font-family:arial\;"><span style="font-size:12.0pt\;">What challenges does my partner face in business or the classroom?</span></span></span><br />\n<span style="direction:\nunicode-bidi:embed\;language:x-none\;"><span style="color:black\;"><span style="font-size:10.0pt\;"><span style="font-family:symbol\;">&middot\;</span></span></span></span>&nbsp\;<span style="font-style:\nlanguage:en-US\;"><span style="font-family:arial\;"><span style="font-size:12.0pt\;">What are the major differences or similarities in or workplaces/workdays?</span></span></span><br />\n<span style="direction:\nunicode-bidi:embed\;language:x-none\;"><span style="color:black\;"><span style="font-size:10.0pt\;"><span style="font-family:symbol\;">&middot\;</span></span></span></span>&nbsp\;<span style="font-style:\nlanguage:en-US\;"><span style="font-family:arial\;"><span style="font-size:12.0pt\;">How can we work together in the future for our kids and our community? </span></span></span><br />\n&nbsp\;<br />\nTHANK YOU TO OUR SPONSORS <strong>FIRST FINANCIAL NORTHWEST BANK</strong> AND <strong>COLUMBIA BANK</strong>!<br />\n&nbsp\;</div>\n
LOCATION:Renton High School Commons Area 400 S. 2nd St Renton\, WA 98057
UID:e.16.5364
SEQUENCE:3
DTSTAMP:20260425T023252Z
URL:https://chamber.gorenton.com/events/details/2018-business-and-education-exchange-kick-off-5364
END:VEVENT

END:VCALENDAR
