BEGIN:VCALENDAR
VERSION:2.0
PRODID:-//ChamberMaster//Event Calendar 2.0//EN
METHOD:PUBLISH
X-PUBLISHED-TTL:P3D
REFRESH-INTERVAL:P3D
CALSCALE:GREGORIAN
BEGIN:VEVENT
DTSTART:20180622T000000Z
DTEND:20180622T020000Z
X-MICROSOFT-CDO-ALLDAYEVENT:FALSE
SUMMARY:2018 June Chamber Business After Hours\; Solstice Senior Living
DESCRIPTION:Solstice Senior Living\n\nLive. Life. Vibrantly\n\n \n\nJoin fellow chamber members for a fun after work event of networking\, sponsor provided libations and great food!
X-ALT-DESC;FMTTYPE=text/html:<div><strong><font size="3">Solstice Senior Living<br />\nLive. Life. Vibrantly</font></strong></div>\n\n<div>&nbsp\;</div>\n\n<div><font size="2">Join fellow chamber members&nbsp\;for a fun after work event of networking\, sponsor provided&nbsp\;libations and great food!</font></div>\n\n<div>&nbsp\;</div>\n
LOCATION:Solstice Senior Living 1414 Monroe Ave. NE Renton\, WA 98056
UID:e.16.5738
SEQUENCE:3
DTSTAMP:20260424T213635Z
URL:https://chamber.gorenton.com/events/details/2018-june-chamber-business-after-hours-solstice-senior-living-5738
END:VEVENT

END:VCALENDAR
