BEGIN:VCALENDAR
VERSION:2.0
PRODID:-//ChamberMaster//Event Calendar 2.0//EN
METHOD:PUBLISH
X-PUBLISHED-TTL:P3D
REFRESH-INTERVAL:P3D
CALSCALE:GREGORIAN
BEGIN:VEVENT
DTSTART:20181117T170000Z
DTEND:20181119T000000Z
X-MICROSOFT-CDO-ALLDAYEVENT:FALSE
SUMMARY:2018 Seattle Film Summit (In Tukwila)
DESCRIPTION:The Seattle Film Summit is a professional development event for anyone in Washington who has a stake in the production or distribution of media content\, including filmmakers\, actors\, video game creators\, transmedia geeks\, editors\, media lawyers\, film community leaders\, legislators\, film crews and writers.\n\nIn 2018\, the Seattle Film Summit brings together community partners\, local creative industries\, and distribution entities from LA to present a two day-long series of events focused on creating opportunities for Northwest content creators. \n\n\n\nCheck out www.seattlefilmsummit.com for news and updates.\n\nOur Mission\n\n\n\nThe Seattle Film Summit empowers regional artists to develop innovative methods of storytelling\, funding\, and distribution to shape a new\, socially responsible film culture for the Pacific Northwest.\n\n\n	Workshops onsite taught by film industry experts. \n	Guest speakers\n	Breakout Sessions\n	Film industry vendor expo with business-to-business booths \n	Pitch conference with a panel of industry experts\n	LA based distributors in attendance and taking meetings\n\n\n\n\n\n\n \n\n\n\nSTAY TUNED FOR ANNOUNCEMENTS OF EXCITING GUESTS\, PANELISTS\, AND DISTRIBUTORS IN ATTENDANCE.\n\n VIEW PRESS KIT HERE
X-ALT-DESC;FMTTYPE=text/html:<p dir="ltr" style="text-align: left\;"><span style="font-family:verdana\;">The Seattle Film Summit is a professional development event for anyone in Washington who has a stake in the production or distribution of media content\, including filmmakers\, actors\, video game creators\, transmedia geeks\, editors\, media lawyers\, film community leaders\, legislators\,&nbsp\;film crews&nbsp\;and writers.</span></p>\n\n<p dir="ltr" style="text-align: left\;"><span style="font-family:verdana\;">In 2018\, the Seattle Film Summit brings together community partners\, local creative industries\, and distribution entities from&nbsp\;LA&nbsp\;to present a two day-long series of events focused on creating opportunities for Northwest content creators.&nbsp\;<br />\n<br />\n<span style="font-size:16px\;"><strong>Check out www.seattlefilmsummit.com for news and updates.</strong></span></span></p>\n\n<p class="home-intro" style="text-align: center\;"><span style="font-family:verdana\;"><font size="6">Our Mission</font></span></p>\n\n<div>\n<div style="text-align: left\;">\n<p style="margin: 0px 0px 10.66px\;"><span style="font-family:verdana\;">The Seattle Film Summit empowers regional artists to develop innovative methods of storytelling\, funding\, and distribution to shape a new\, socially responsible film culture for the Pacific Northwest.</span></p>\n\n<ul>\n	<li style="margin: 0px 0px 10.66px\;"><span style="font-family:verdana\;"><strong><span lang="EN" new="" style="margin: 0px\; color: rgb(68\, 68\, 68)\; font-family: " times="">Workshops onsite taught by film industry experts. </span></strong></span></li>\n	<li style="margin: 0px 0px 10.66px\;"><span style="font-family:verdana\;"><strong><span lang="EN" new="" style="margin: 0px\; color: rgb(68\, 68\, 68)\; font-family: " times="">Guest speakers</span></strong></span></li>\n	<li style="margin: 0px 0px 10.66px\;"><span style="font-family:verdana\;"><strong><span lang="EN" new="" style="margin: 0px\; color: rgb(68\, 68\, 68)\; font-family: " times="">Breakout Sessions</span></strong></span></li>\n	<li style="margin: 0px 0px 10.66px\;"><span style="font-family:verdana\;"><b><span lang="EN" new="" style="margin: 0px\; color: rgb(68\, 68\, 68)\; font-family: " times="">Film industry vendor expo with business-to-business booths </span></b></span></li>\n	<li style="margin: 0px 0px 10.66px\;"><span style="font-family:verdana\;"><b><span lang="EN" new="" style="margin: 0px\; color: rgb(68\, 68\, 68)\; font-family: " times="">Pitch conference with a panel of industry </span></b><b><span lang="EN" style="margin: 0px\; color: rgb(68\, 68\, 68)\; font-family: ">experts</span></b></span></li>\n	<li style="margin: 0px 0px 10.66px\;"><span style="font-family:verdana\;"><b><span lang="EN" new="" style="margin: 0px\; color: rgb(68\, 68\, 68)\; font-family: " times="">LA based distributors in attendance and taking meetings</span></b></span></li>\n</ul>\n</div>\n</div>\n\n<div>\n<div>\n<div id="_com_1" uage="JavaScript">&nbsp\;</div>\n</div>\n</div>\n\n<p style="margin: 0in 0in 0pt\;"><span style="font-family:verdana\;">STAY TUNED FOR ANNOUNCEMENTS OF EXCITING GUESTS\, PANELISTS\, AND DISTRIBUTORS IN ATTENDANCE.</span></p>\n\n<p style="margin: 0in 0in 0pt\; text-align: center\;">&#8203\;<span style="font-size:22px\;"><strong><a href="https://seattlefilmsummit.com/wp-content/uploads/2018/08/Master-Media-Pitch-Kit-v4-FINAL.pdf">VIEW PRESS KIT HERE</a></strong></span></p>\n
LOCATION:Hotel Interurban 223 Andover Park E Tukwila\, WA 98188
UID:e.16.5372
SEQUENCE:3
DTSTAMP:20260424T123850Z
URL:https://chamber.gorenton.com/events/details/2018-seattle-film-summit-in-tukwila-5372
END:VEVENT

END:VCALENDAR
