BEGIN:VCALENDAR
VERSION:2.0
PRODID:-//ChamberMaster//Event Calendar 2.0//EN
METHOD:PUBLISH
X-PUBLISHED-TTL:P3D
REFRESH-INTERVAL:P3D
CALSCALE:GREGORIAN
BEGIN:VEVENT
DTSTART:20190920T003000Z
DTEND:20190920T033000Z
X-MICROSOFT-CDO-ALLDAYEVENT:FALSE
SUMMARY:2019 AHEAD OF THE CARE
DESCRIPTION:There is no denying the healthcare community has grown by leaps and bounds in Renton. It's time to celebrate this growing sector of our community. The Renton Chamber of Commerce and several  partners have joined together to honor the standout healthcare employees within these organizations.\n\n\n\nThe Ahead of the Care award program is a partnership between the Renton Chamber of Commerce and Renton's healthcare leaders. It is part of the Chamber's effort to highlight business sectors and individuals that make Renton a better community. The program's aim is to enhance awareness of the excellence of those that provide healthcare to our community.\n\n\n\nThe award ceremony will be a plated dinner with a wine selection and a cash bar.\n\n \nPre-Plated at Table: Mixed Green Salad\, Candied Pecans\, Mozzarella w/honey Dijon\, Fresh sliced Baguettes and butter\n\nPlated Dinner: Thin sliced grilled flank steak w/ Demi & Grilled Soy-Lime Salmon\, Seasoned wild rice\, green beans with roasted carrots\n\nAssorted Desserts: Lemon Bar\, Brownies\, Coconut Dream & Chocolate Raspberry bar\nEach Table will have a bottle of white and a bottle of red that comes with price of admission.\n\n \nHOW IT WORKS \n\n\n\nRenton healthcare employees are nominated as difference makers from patients\, peers\, employers\, etc. Nominations are opened through the Chamber\, Renton Reporter\, and every channel available in the below eight categories.\n\n \nDoctors\n\nFirst Responders\n\nBehavioral Health\n\nAllied Health - Supportive Roles/Pharmacists/Anesthesiologist/Integral Support/Dentists\n\nHuman Services/Health\n\nNurses\n\nSenior Care Services\n\nHealthcare Support Services - Non Patient Interaction/Housekeeping/Security/Reception/IT\n\n\nAfter a short nomination period 3-5 individuals will be picked in each category. A selection committee of community professionals will interview the finalists. The finalists are invited to an awards ceremony at Renton Pavilion Event Center. The winners will receive a trophy and a prize package of items donated from our community.
X-ALT-DESC;FMTTYPE=text/html:<span style="font-size: 14px\;"><span style="font-family: times new roman\;"><span style="color: rgb(33\, 30\, 30)\;"><b>There is no denying the healthcare community has grown by leaps and bounds in Renton. It&#39\;s time to celebrate this growing sector of our community. The Renton Chamber of Commerce and several&nbsp\; partners have joined together to honor the standout healthcare employees within these organizations.</b></span></span><br />\n<br />\nThe Ahead of the Care award program is a partnership between the Renton Chamber of Commerce and Renton&#39\;s healthcare leaders. It is part of the Chamber&#39\;s effort to highlight business sectors and individuals that make Renton a better community. The program&#39\;s aim is to enhance awareness of the excellence of those that provide healthcare to our community.</span><br />\n<br />\n<span style="color: rgb(51\, 51\, 51)\; font-family: sans-serif\, Arial\, Verdana\, &quot\;Trebuchet MS&quot\;\; font-size: 14px\;">The award ceremony will be a plated dinner with a wine selection and a cash bar.</span><br style="color: rgb(51\, 51\, 51)\; font-family: sans-serif\, Arial\, Verdana\, &quot\;Trebuchet MS&quot\;\; font-size: 13px\;" />\n&nbsp\;\n<p style="color: rgb(51\, 51\, 51)\; font-family: sans-serif\, Arial\, Verdana\, &quot\;Trebuchet MS&quot\;\; font-size: 13px\; margin: 0px\; line-height: 19.5px\;"><span style="font-family: arial\;"><font color="#000000"><b><span style="margin: 0px\; line-height: 19.5px\;">Pre-Plated at Table:&nbsp\;</span></b>Mixed Green Salad\, Candied Pecans\, Mozzarella w/honey Dijon\, Fresh sliced Baguettes and butter</font></span></p>\n\n<p style="color: rgb(51\, 51\, 51)\; font-family: sans-serif\, Arial\, Verdana\, &quot\;Trebuchet MS&quot\;\; font-size: 13px\; margin: 0px\; line-height: 19.5px\;"><span style="font-family: arial\;"><font color="#000000"><b><span style="margin: 0px\; line-height: 19.5px\;">Plated Dinner:&nbsp\;</span></b><span style="margin: 0px\; line-height: 19.5px\;">Thin sliced grilled flank steak w/ Demi &amp\; Grilled Soy-Lime Salmon\, Seasoned wild rice\, green beans with roasted carrots<br />\n<strong>Assorted Desserts:</strong>&nbsp\;</span></font><font color="#000000">Lemon Bar\, Brownies\, Coconut Dream &amp\; Chocolate Raspberry bar</font></span></p>\n<strong style="color: rgb(51\, 51\, 51)\; font-family: sans-serif\, Arial\, Verdana\, &quot\;Trebuchet MS&quot\;\; font-size: 13px\;"><span style="font-family: arial\;">Each Table will have a bottle of white and a bottle of red that comes with price of admission.</span></strong>\n\n<p style="margin: 0px\; line-height: 150%\;">&nbsp\;</p>\n<span style="font-size: 14px\;"><strong><span style="color: rgb(33\, 30\, 30)\;">HOW IT WORKS </span></strong><br />\n<br />\n<span style="color: rgb(33\, 30\, 30)\;">Renton healthcare employees are nominated as </span><strong><span style="color: rgb(33\, 30\, 30)\;">difference makers </span></strong><span style="color: rgb(33\, 30\, 30)\;">from patients\, peers\, employers\, etc. Nominations are opened through the Chamber\, Renton Reporter\, and every channel available in the below eight categories.</span></span><br />\n&nbsp\;\n<p style="margin: 0px\; line-height: normal\;"><strong><span style="margin: 0px\;"><font color="#000000" face="Calibri" size="3">Doctors</font></span></strong></p>\n\n<p style="margin: 0px\; line-height: normal\;"><strong><span style="margin: 0px\;"><font color="#000000" face="Calibri" size="3">First Responders</font></span></strong></p>\n\n<p style="margin: 0px\; line-height: normal\;"><strong><span style="margin: 0px\;"><font color="#000000" face="Calibri" size="3">Behavioral Health</font></span></strong></p>\n\n<p style="margin: 0px\; line-height: normal\;"><strong><span style="margin: 0px\;"><font color="#000000" face="Calibri" size="3">Allied Health - Supportive Roles/Pharmacists/Anesthesiologist/Integral Support/Dentists</font></span></strong></p>\n\n<p style="margin: 0px\; line-height: normal\;"><strong><span style="margin: 0px\;"><font color="#000000" face="Calibri" size="3">Human Services/Health</font></span></strong></p>\n\n<p style="margin: 0px\; line-height: normal\;"><strong><span style="margin: 0px\;"><font color="#000000" face="Calibri" size="3">Nurses</font></span></strong></p>\n\n<p style="margin: 0px\; line-height: normal\;"><strong><span style="margin: 0px\;"><font color="#000000" face="Calibri" size="3">Senior Care Services</font></span></strong></p>\n\n<p style="margin: 0px\; line-height: normal\;"><strong><span style="margin: 0px\;"><font color="#000000" face="Calibri" size="3">Healthcare Support Services - Non Patient Interaction/Housekeeping/Security/Reception/IT</font></span></strong></p>\n<br />\n<span style="font-size: 14px\;"><span style="color: rgb(33\, 30\, 30)\;">After a short nomination period 3-5 individuals will be picked in each category. A selection committee of community professionals will interview the finalists. </span><span style="color: rgb(33\, 30\, 30)\;">The finalists are invited to an awards ceremony at </span><strong><span style="color: rgb(33\, 30\, 30)\;">Renton Pavilion Event Center</span></strong><span style="color: rgb(33\, 30\, 30)\;">. The winners will receive a trophy and a prize package of items donated from our community.</span></span><br />\n<br />\n<br />\n<br />\n&nbsp\;
LOCATION:Renton Pavilion Event Center 233 Burnett Ave S.\, Renton\, WA 98057
UID:e.16.6213
SEQUENCE:3
DTSTAMP:20260423T215450Z
URL:https://chamber.gorenton.com/events/details/2019-ahead-of-the-care-6213
END:VEVENT

END:VCALENDAR
