BEGIN:VCALENDAR
VERSION:2.0
PRODID:-//ChamberMaster//Event Calendar 2.0//EN
METHOD:PUBLISH
X-PUBLISHED-TTL:P3D
REFRESH-INTERVAL:P3D
CALSCALE:GREGORIAN
BEGIN:VEVENT
DTSTART:20190228T160000Z
DTEND:20190228T160000Z
X-MICROSOFT-CDO-ALLDAYEVENT:FALSE
SUMMARY:2019 State of the City Address
DESCRIPTION:Join us on Thursday\, February 28 as Renton Mayor Denis Law presents his last State of\n\nthe City Address. In this annual address\, Mayor Law will detail the city's achievements and\n\npresent a vision for the future.
X-ALT-DESC;FMTTYPE=text/html:Join us on Thursday\, February 28 as Renton Mayor Denis Law presents his last State of<br />\nthe City Address. In this annual address\, Mayor Law will detail the city&rsquo\;s achievements and<br />\npresent a vision for the future.
LOCATION:Renton Pavilion Event Center 233 Burnett Ave. S. Renton\, WA 98057
UID:e.16.5997
SEQUENCE:3
DTSTAMP:20260424T093243Z
URL:https://chamber.gorenton.com/events/details/2019-state-of-the-city-address-5997
END:VEVENT

END:VCALENDAR
