BEGIN:VCALENDAR
VERSION:2.0
PRODID:-//ChamberMaster//Event Calendar 2.0//EN
METHOD:PUBLISH
X-PUBLISHED-TTL:P3D
REFRESH-INTERVAL:P3D
CALSCALE:GREGORIAN
BEGIN:VEVENT
DTSTART:20210819T230000Z
DTEND:20210820T010000Z
X-MICROSOFT-CDO-ALLDAYEVENT:FALSE
SUMMARY:2021 August After Hours Hosted By Vino at the Landing
DESCRIPTION:August After Hours is hosted by Vino at the Landing.  A time of socializing and tapping into new Chamber connections\, while enjoying Vino at the Landing's space and menu sampling.\n\n\n\nLight appetizers and beverages are being provided by Vino at the Landing\n\nWhite Truffle Popcorn\, Bacon Wrapped Dates\, Artichoke Dip\, Charcuterie. \n\nWhite wine\, red wine\, beer\, non-alcoholic beverages will all be available. \n\n \n\nAlso on Thursday\, August 19th Long Shadows Winery has a tasting from 6p - 8p.  Feel free to join in this wine tasting after the After Hours event.
X-ALT-DESC;FMTTYPE=text/html:<p><span style="font-family:tahoma\;"><span style="font-size:14px\;"><small>August After Hours is hosted by Vino at the Landing.&nbsp\;&nbsp\;A time of socializing and tapping into new Chamber connections\, while enjoying Vino at the Landing&#39\;s&nbsp\;space and menu sampling.<br />\n<br />\n<span font-size:="" helvetica="" segoe="" style="color: rgb(32\, 31\, 30)\; font-family: " ui="" web="" west="">Light appetizers and beverages are being provided by Vino at the Landing<br />\nWhite Truffle Popcorn\, Bacon Wrapped Dates\, Artichoke Dip\, Charcuterie.&nbsp\;<br />\nWhite wine\, red wine\, beer\, non-alcoholic beverages will all be available.&nbsp\;</span></small></span></span><br />\n&nbsp\;</p>\n\n<p color:="" helvetica="" segoe="" style="margin: 0px\; padding: 0px\; border: 0px\; font-variant-numeric: inherit\; font-variant-east-asian: inherit\; font-stretch: inherit\; font-size: 15px\; line-height: inherit\;" ui="" vertical-align:="" web="" west=""><span style="font-size:14px\;"><span style="font-family:arial\;"><small>Also on Thursday\, August 19th Long Shadows Winery has a tasting from 6p - 8p.&nbsp\; Feel free to join in this wine tasting after the After Hours event.&nbsp\;</small></span></span></p>\n
LOCATION:Vino at the Landing
UID:e.16.8289
SEQUENCE:3
DTSTAMP:20260420T132826Z
URL:https://chamber.gorenton.com/events/details/2021-august-after-hours-hosted-by-vino-at-the-landing-8289
END:VEVENT

END:VCALENDAR
