BEGIN:VCALENDAR
VERSION:2.0
PRODID:-//ChamberMaster//Event Calendar 2.0//EN
METHOD:PUBLISH
X-PUBLISHED-TTL:P3D
REFRESH-INTERVAL:P3D
CALSCALE:GREGORIAN
BEGIN:VEVENT
DTSTART:20211110T160000Z
DTEND:20211110T173000Z
X-MICROSOFT-CDO-ALLDAYEVENT:FALSE
SUMMARY:2021 Business Development Meeting
DESCRIPTION:Join the Renton Chamber of Commerce for our monthly Business Development Meetings\, the second Wednesday of every month from 8:00a - 9:30a. The Chamber partners with Renton business owners to access knowledge and resources within our community\, and features guest speakers with topics pertinent to business operations. This is an opportunity to learn from each other and network talents\, skills and resources.\n\n\n\nUpcoming Topics...\nNovember 10th -\n\n"Are You Ever Confused by Recycling?" with Natalie Caulkins from Republic Services \n\n"Are you ever confused by recycling?" Or perhaps you've wondered... hat is contamination? or  Why are some plastics recyclable and some are not?\n\n\n\nQuestions will be answered and myths dispelled at this informative presentation on Wednesday\, November 10th at 8am. Republic Services\, Recycling Coordinator\, Natalie Caulkins\, will give an interactive presentation including a Q&A portion about all things garbage and recycling.\n\nDon't waste the opportunity to clear away confusion around recycling?\n\n\nDecember 8th - Fire Safety For Your Business with Sara Ferguson from Renton Fire Authority
X-ALT-DESC;FMTTYPE=text/html:<span style="font-size:12px\;"><span style="color:#333333\;"><span style="font-family:arial\;">Join the Renton Chamber of Commerce for our monthly Business Development Meetings\,&nbsp\;the second Wednesday of every month from 8:00a - 9:30a. The Chamber partners with Renton&nbsp\;business owners to access knowledge and resources within our community\, and features guest speakers with topics pertinent to business operations. This is an opportunity to learn from each&nbsp\;other and network talents\, skills and resources.</span></span></span><br />\n<br />\n<span style="font-size:12px\;"><span style="font-family:tahoma\;"><strong>Upcoming Topics...</strong></span></span>\n<p><strong>November 10th -<br />\n&quot\;Are You Ever Confused by Recycling?&quot\; with Natalie Caulkins from Republic Services&nbsp\;</strong><br />\n<span style="font-size:12px\;"><span style="font-family:tahoma\;"><span style="margin: 0px\; padding: 0px\; border: 0px\; font-style: inherit\; font-variant: inherit\; font-weight: inherit\; font-stretch: inherit\; line-height: inherit\; vertical-align: baseline\; color: inherit\;"><em>&quot\;Are you ever confused by recycling?&quot\;&nbsp\;Or perhaps you&#39\;ve wondered... hat is contamination?&nbsp\;or&nbsp\; Why are some plastics recyclable and some are not?</em></span></span></span><br />\n<br />\n<em><span style="font-size:12px\;"><span style="font-family:tahoma\;"><span style="margin: 0px\; padding: 0px\; border: 0px\; font-style: inherit\; font-variant: inherit\; font-weight: inherit\; font-stretch: inherit\; line-height: inherit\; vertical-align: baseline\; color: inherit\;">Questions will be answered and myths dispelled at this informative presentation on&nbsp\;<b>Wednesday\, November 10<sup>th</sup>&nbsp\;at 8am</b>. Republic Services\, Recycling Coordinator\,&nbsp\;<span class="markovcblwzih" data-markjs="true" data-ogab="" data-ogac="" data-ogsb="" data-ogsc="" style="margin: 0px\; padding: 0px\; border: 0px\; font-style: inherit\; font-variant: inherit\; font-weight: inherit\; font-stretch: inherit\; line-height: inherit\; vertical-align: baseline\; color: inherit\;">Natalie</span>&nbsp\;Caulkins\, will give an interactive presentation including a Q&amp\;A portion about all things garbage and recycling.</span></span></span><br />\n<span style="font-size:12px\;"><span style="font-family:tahoma\;"><span style="margin: 0px\; padding: 0px\; border: 0px\; font-style: inherit\; font-variant: inherit\; font-weight: inherit\; font-stretch: inherit\; line-height: inherit\; vertical-align: baseline\; color: inherit\;">Don&#39\;t waste&nbsp\;the opportunity to clear away confusion around recycling?</span></span></span></em></p>\n<br />\n<strong>December 8th - Fire Safety For Your Business with Sara Ferguson from Renton Fire Authority</strong>
LOCATION:This is a virtual event - please make sure to register to receive the Zoom link!
UID:e.16.8429
SEQUENCE:3
DTSTAMP:20260420T090442Z
URL:https://chamber.gorenton.com/events/details/2021-business-development-meeting-11-10-2021-8429
END:VEVENT

END:VCALENDAR
