BEGIN:VCALENDAR
VERSION:2.0
PRODID:-//ChamberMaster//Event Calendar 2.0//EN
METHOD:PUBLISH
X-PUBLISHED-TTL:P3D
REFRESH-INTERVAL:P3D
CALSCALE:GREGORIAN
BEGIN:VEVENT
DTSTART:20211208T160000Z
DTEND:20211208T173000Z
X-MICROSOFT-CDO-ALLDAYEVENT:FALSE
SUMMARY:2021 Business Development Meeting
DESCRIPTION:Join the Renton Chamber of Commerce for our monthly Business Development Meetings\,\n\nthe second Wednesday of every month from 8:00a - 9:30a. The Chamber partners with Renton\n\nbusiness owners to access knowledge and resources within our community\, and features guest speakers with topics pertinent to business operations. This is an opportunity to learn from each\n\nother and network talents\, skills and resources.\n\n\n\nDecember 8th - Fire Safety For Your Business with Sara Ferguson from Renton Fire Authority
X-ALT-DESC;FMTTYPE=text/html:<span style="font-size:12px\;"><span style="font-family: arial\;">Join the Renton Chamber of Commerce for our monthly Business Development Meetings\,<br />\nthe second Wednesday of every month from 8:00a - 9:30a. The Chamber partners with Renton<br />\nbusiness owners to access knowledge and resources within our community\, and features guest speakers with topics pertinent to business operations. This is an opportunity to learn from each<br />\nother and network talents\, skills and resources.</span></span><br />\n<br />\n<strong>December 8th - Fire Safety For Your Business with Sara Ferguson from Renton Fire Authority</strong>
LOCATION:This is a virtual event - please make sure to register to receive the Zoom link!
UID:e.16.8430
SEQUENCE:3
DTSTAMP:20260420T073854Z
URL:https://chamber.gorenton.com/events/details/2021-business-development-meeting-12-08-2021-8430
END:VEVENT

END:VCALENDAR
