BEGIN:VCALENDAR
VERSION:2.0
PRODID:-//ChamberMaster//Event Calendar 2.0//EN
METHOD:PUBLISH
X-PUBLISHED-TTL:P3D
REFRESH-INTERVAL:P3D
CALSCALE:GREGORIAN
BEGIN:VEVENT
DTSTART:20211217T000000Z
DTEND:20211217T020000Z
X-MICROSOFT-CDO-ALLDAYEVENT:FALSE
SUMMARY:2021 December After Hours Hosted by Daisy Quitugua of eXp Realty
DESCRIPTION:Hosted by Daisy Quitugua of eXp Realty
X-ALT-DESC;FMTTYPE=text/html:<p><span style="font-family:arial\;"><strong><span style="font-size:14px\;"><span data-font-id="undefined">Hosted by Daisy Quitugua of eXp Realty</span></span></strong></span></p>\n\n<p style="text-align: center">&nbsp\;</p>\n
LOCATION:Renton Chamber of Commerce 625 S 4th St
UID:e.16.9066
SEQUENCE:3
DTSTAMP:20260420T074042Z
URL:https://chamber.gorenton.com/events/details/2021-december-after-hours-hosted-by-daisy-quitugua-of-exp-realty-9066
END:VEVENT

END:VCALENDAR
