BEGIN:VCALENDAR
VERSION:2.0
PRODID:-//ChamberMaster//Event Calendar 2.0//EN
METHOD:PUBLISH
X-PUBLISHED-TTL:P3D
REFRESH-INTERVAL:P3D
CALSCALE:GREGORIAN
BEGIN:VEVENT
DTSTART:20210825T143000Z
DTEND:20210825T160000Z
X-MICROSOFT-CDO-ALLDAYEVENT:FALSE
SUMMARY:2021 New Teachers Breakfast & Ahead of the Class
DESCRIPTION:Please join us in welcoming and celebrating the incredible educators in our community!\n\n\n\nThis year\, in order to keep educators as safe as possible\, we are choosing to be virtual again.\n\nAnd although we are in different places\, we still have great opportunity to welcome those new teachers who have decided to take a chance on Renton and join our amazing team of educators here in the Renton community!\n\n\n\nThis year we will also be highlighting our 2021 Teachers of the Year Finalists through our Ahead of the Class recognition.  These are educators who are nominated by their peers\, students and parents for the differences they make in the world around them.\n\n\n\nSpecial Guest:  Jessica Giner\, newly appointed Renton Municipal Court Judge\, member of the Renton Chamber of Commerce AND historical reader/judge for Ahead of the Class.
X-ALT-DESC;FMTTYPE=text/html:<span style="font-size:16px\;"><span style="font-family:times new roman\;">Please join us in welcoming and celebrating the incredible educators in our community!<br />\n<br />\nThis year\, in order to keep educators as safe as possible\, we are choosing to be virtual again.<br />\nAnd although we are in different places\, we still have great opportunity to welcome those new teachers who have decided to take a chance on Renton and join our amazing team of educators here in the Renton community!<br />\n<br />\nThis year we will also be highlighting our 2021 Teachers of the Year Finalists through our Ahead of the Class recognition.&nbsp\; These are educators who are nominated by their peers\, students and parents for the differences they make in the world around them.<br />\n<br />\nSpecial Guest:&nbsp\; Jessica Giner\, newly appointed Renton Municipal Court Judge\, member of the Renton Chamber of Commerce AND historical reader/judge for Ahead of the Class.&nbsp\;</span></span>
LOCATION:Virtual Event - please register for the link.
UID:e.16.8285
SEQUENCE:3
DTSTAMP:20260420T132805Z
URL:https://chamber.gorenton.com/events/details/2021-new-teachers-breakfast-ahead-of-the-class-8285
END:VEVENT

END:VCALENDAR
