BEGIN:VCALENDAR
VERSION:2.0
PRODID:-//ChamberMaster//Event Calendar 2.0//EN
METHOD:PUBLISH
X-PUBLISHED-TTL:P3D
REFRESH-INTERVAL:P3D
CALSCALE:GREGORIAN
BEGIN:VEVENT
DTSTART;VALUE=DATE:20211118
DTEND;VALUE=DATE:20211119
TRANSP:TRANSPARENT
X-MICROSOFT-CDO-ALLDAYEVENT:TRUE
SUMMARY:2021 November After Hours hosted by Evergreen City Ballet
DESCRIPTION:NOTE CHANGE:  In keeping with Covid-Tradition\, this After Hours has been adjusted.\n\nFRIDAY\, DECEMBER 17th at Renton IKEA Performing Arts Center  7p\n\nIf you were pre-registered for this event\, you will be receiving one (1) complimentary ticket to the performance on the 17th.\n\nIf you would like to purchase additional tickets (Adult $35 - Military/Senior/Child $30)\, please reach out to the Chamber to secure your tickets.  [We will be going as a group to this performance.]\n\nWe are excited and honored to have the opportunity to support Evergreen City Ballet & their students.  Their upcoming December performances of Wade Walthall's The Nutcracker are happening multiple days in Renton and Auburn.  We hope you show your support to this incredible institution!
X-ALT-DESC;FMTTYPE=text/html:<p>NOTE CHANGE:&nbsp\; In keeping with Covid-Tradition\, this After Hours has been adjusted.</p>\n\n<p><strong>FRIDAY\, DECEMBER 17th at Renton IKEA Performing Arts Center&nbsp\; 7p</strong></p>\n\n<p>If you were pre-registered for this event\, you will be receiving one (1) complimentary ticket to the performance on the 17th.</p>\n\n<p>If you would like to purchase additional tickets (Adult&nbsp\;$35 - Military/Senior/Child $30)\, please reach out to the Chamber to secure your tickets.&nbsp\; [We will be going as a group to this performance.]</p>\n\n<p>We are excited and honored to have the opportunity to&nbsp\;support Evergreen City Ballet &amp\; their students.&nbsp\; Their upcoming December performances of Wade Walthall&#39\;s The Nutcracker are happening multiple days in Renton and Auburn.&nbsp\; We hope you show your support to this incredible institution!&nbsp\;</p>\n
LOCATION:
UID:e.16.10578
SEQUENCE:3
DTSTAMP:20260420T103140Z
URL:https://chamber.gorenton.com/events/details/2021-november-after-hours-hosted-by-evergreen-city-ballet-10578
END:VEVENT

END:VCALENDAR
