BEGIN:VCALENDAR
VERSION:2.0
PRODID:-//ChamberMaster//Event Calendar 2.0//EN
METHOD:PUBLISH
X-PUBLISHED-TTL:P3D
REFRESH-INTERVAL:P3D
CALSCALE:GREGORIAN
BEGIN:VEVENT
DTSTART:20211021T230000Z
DTEND:20211022T010000Z
X-MICROSOFT-CDO-ALLDAYEVENT:FALSE
SUMMARY:2021 October After Hours Hosted By Rosie Rourke
DESCRIPTION:Rosie Rourke and her incredible team will be hosting October After Hours...\n\n\n\nHalloween Party - Please dress in costume!\n\nSpooky drinks\n\nYummy treats \n\nCatering from Cedar River BBQ
X-ALT-DESC;FMTTYPE=text/html:<strong>Rosie Rourke and her incredible team will be hosting October After Hours...<br />\n<br />\nHalloween Party - Please dress in costume!<br />\nSpooky drinks<br />\nYummy treats&nbsp\;<br />\nCatering from Cedar River BBQ</strong>
LOCATION:16333 SE Petrovitsky Rd Renton\, WA 98058
UID:e.16.8296
SEQUENCE:3
DTSTAMP:20260420T103018Z
URL:https://chamber.gorenton.com/events/details/2021-october-after-hours-hosted-by-rosie-rourke-8296
END:VEVENT

END:VCALENDAR
