BEGIN:VCALENDAR
VERSION:2.0
PRODID:-//ChamberMaster//Event Calendar 2.0//EN
METHOD:PUBLISH
X-PUBLISHED-TTL:P3D
REFRESH-INTERVAL:P3D
CALSCALE:GREGORIAN
BEGIN:VEVENT
DTSTART:20210916T230000Z
DTEND:20210917T010000Z
X-MICROSOFT-CDO-ALLDAYEVENT:FALSE
SUMMARY:2021 September After Hours Hosted By Hudson's Portrait Design
DESCRIPTION:Join us Sept. 16th 4-6:30ish at Hudson's Portrait Design in Tukwila for September After Hours!\n\n\n\nFood\, drinks\, and TONS of networking fun. It's Seahawk-themed\, so wear your colors and enter to win their best-dressed contest.\n\n\n\nThey will also be giving away $500+ in prizes from some of their favorite local Renton businesses too!\n\n\n\nCome network with the longest active chamber member in Renton (40 years this year as a member)\, Bruce Hudson & his team at Hudson's!
X-ALT-DESC;FMTTYPE=text/html:<span style="font-size:14px\;"><big><i font-size:="" segoe="" style="color: rgb(5\, 5\, 5)\; font-family: " ui="" white-space:="">Join us <strong>Sept. 16th 4-6:30ish</strong> at <strong>Hudson&#39\;s Portrait Design</strong> in Tukwila for <strong>September After Hours</strong>!<br />\n<br />\nFood\, drinks\, and TONS of networking fun. It&#39\;s <strong>Seahawk-themed\,</strong> so wear your <span style="color:#00FF00\;"><strong><span style="background-color:#000080\;">colors</span></strong></span><span style="color:#000080\;"><strong> </strong></span>and enter to win their best-dressed contest.<br />\n<br />\n<strong>They will also be giving away $500+ in prizes from some of their favorite local Renton businesses too!</strong><br />\n<br />\nCome network with the longest active chamber member in Renton (40 years this year as a member)\, Bruce Hudson &amp\; his team at Hudson&#39\;s! </i></big></span>
LOCATION:Hudson's Portrait Design Studio 641 Strander Blvd Tukwila\, WA 98188
UID:e.16.8293
SEQUENCE:3
DTSTAMP:20260420T120916Z
URL:https://chamber.gorenton.com/events/details/2021-september-after-hours-hosted-by-hudson-s-portrait-design-8293
END:VEVENT

END:VCALENDAR
