BEGIN:VCALENDAR
VERSION:2.0
PRODID:-//ChamberMaster//Event Calendar 2.0//EN
METHOD:PUBLISH
X-PUBLISHED-TTL:P3D
REFRESH-INTERVAL:P3D
CALSCALE:GREGORIAN
BEGIN:VEVENT
DTSTART:20220603T190000Z
DTEND:20220603T220000Z
X-MICROSOFT-CDO-ALLDAYEVENT:FALSE
SUMMARY:2022 - 7th Annual Renton Career Fair
DESCRIPTION:Uniting Talent with Opportunities\nThis career fair will bring together students\, alumni\, and community members to meet 50+ employers from a variety of industries\, including business\, childcare\, construction\, healthcare\, manufacturing\, and transportation. Employers will be looking to recruit and interview\, and some are hiring immediately! \n\nRTC Career Services offers fair preparation sessions to job seekers who need assistance with preparing for the fair or preparing for employment\, including writing a resume and cover letter\, searching for jobs\, and practicing interviewing skills. The detailed meeting information can be found below.\n\n\n	Meet 55+ different organizations who are hiring\n	Free parking is available\n	Come dressed for success and bring copies of your resume!\n	Metro bus route 105 available at Renton Technical College\n\nRESUME HELP\n\nDrop in Zoom\n\nMay 31 - June 1\n\n3-4pm\n\n\n\nZOOM Link:\n\nrtcedu.zoom.us/j/84434709990\n\nMeeting ID: 844 3470 9990\n\nPasscode: 499917
X-ALT-DESC;FMTTYPE=text/html:<strong><u><span style="font-size:16px\;">Uniting Talent with Opportunities</span></u></strong>\n<p>This career fair will bring together students\, alumni\, and community members to meet 50+ employers from a variety of industries\, including business\, childcare\, construction\, healthcare\, manufacturing\, and transportation. Employers will be looking to recruit and interview\, and some are hiring immediately!&nbsp\;</p>\n\n<p>RTC Career Services offers fair preparation sessions to job seekers who need assistance with preparing for the fair or preparing for employment\, including writing a resume and cover letter\, searching for jobs\, and practicing interviewing skills. The detailed meeting information can be found below.</p>\n\n<ul>\n	<li>Meet 55+ different organizations who are hiring</li>\n	<li>Free parking is available</li>\n	<li>Come dressed for success and bring copies of your resume!</li>\n	<li>Metro bus route 105 available at Renton Technical College</li>\n</ul>\nRESUME HELP<br />\nDrop in Zoom<br />\nMay 31 - June 1<br />\n3-4pm<br />\n<br />\nZOOM Link:<br />\nrtcedu.zoom.us/j/84434709990<br />\nMeeting ID: 844 3470 9990<br />\nPasscode: 499917
LOCATION:Renton Technical College Cafeteria Roberts Campus Center 3000 NE 4th St Renton\, WA 98056
UID:e.16.11475
SEQUENCE:3
DTSTAMP:20260419T231644Z
URL:https://chamber.gorenton.com/events/details/2022-7th-annual-renton-career-fair-11475
END:VEVENT

END:VCALENDAR
