BEGIN:VCALENDAR
VERSION:2.0
PRODID:-//ChamberMaster//Event Calendar 2.0//EN
METHOD:PUBLISH
X-PUBLISHED-TTL:P3D
REFRESH-INTERVAL:P3D
CALSCALE:GREGORIAN
BEGIN:VEVENT
DTSTART:20220219T180000Z
DTEND:20220219T190000Z
X-MICROSOFT-CDO-ALLDAYEVENT:FALSE
SUMMARY:2022 - Celebrate 18! - Planning Committee
DESCRIPTION:We're Recruiting Volunteers!\n\nIf you would like to be part of the 2022 Celebrate 18! Planning Committee (Celebrate 18! is the greatest\, biggest\, coolest birthday party in the state!)\, join us for an Informational Meeting on Saturday\, February 19th at 10 a.m. via Zoom  (Participation in the meeting does not imply commitment) \n\nRegister at Celebrate18andLife@gmail.com
X-ALT-DESC;FMTTYPE=text/html:<strong><span style="color:black"><span style="font-family:comic sans ms"><span style="font-size:12.0pt">We&rsquo\;re Recruiting Volunteers!</span></span></span></strong><br />\n<span style="color:black"><span style="font-family:times new roman\,serif"><span style="font-size:12.0pt">If you would like to be part of the&nbsp\;</span></span></span><strong><span style="color:purple"><span style="font-family:times new roman\,serif"><span style="font-size:12.0pt">2022 Celebrate 18! Planning Committee</span></span></span></strong><span style="color:black"><span style="font-family:times new roman\,serif"><span style="font-size:12.0pt">&nbsp\;(<em>Celebrate 18!</em>&nbsp\;is the greatest\, biggest\, coolest birthday party in the state!)\,&nbsp\;join us for an </span></span></span><strong><span style="color:purple"><span style="font-family:times new roman\,serif"><span style="font-size:12.0pt">Informational Meeting </span></span></span></strong><span style="color:black"><span style="font-family:times new roman\,serif"><span style="font-size:12.0pt">on </span></span></span><strong><span style="color:purple"><span style="font-family:times new roman\,serif"><span style="font-size:12.0pt">Saturday\, February 19th at 10 a.m.&nbsp\;via Zoom </span></span></span></strong><span style="color:black"><span style="font-family:times new roman\,serif"><span style="font-size:12.0pt">&nbsp\;(Participation in the meeting does not imply commitment)&nbsp\;</span></span></span><br />\n<strong><span style="color:purple"><span style="font-family:times new roman\,serif"><span style="font-size:12.0pt">Register at <a href="mailto:Celebrate18andLife@gmail.com" target="_blank"><span style="color:#1155CC">Celebrate18andLife@gmail.com</span></a></span></span></span></strong><br />\n&nbsp\;
LOCATION:Meeting will be held via Zoom. Register at Celebrate18andLife@gmail.com
UID:e.16.11356
SEQUENCE:3
DTSTAMP:20260420T060711Z
URL:https://chamber.gorenton.com/events/details/2022-celebrate-18-planning-committee-11356
END:VEVENT

END:VCALENDAR
