BEGIN:VCALENDAR
VERSION:2.0
PRODID:-//ChamberMaster//Event Calendar 2.0//EN
METHOD:PUBLISH
X-PUBLISHED-TTL:P3D
REFRESH-INTERVAL:P3D
CALSCALE:GREGORIAN
BEGIN:VEVENT
DTSTART:20220218T000000Z
DTEND:20220218T020000Z
X-MICROSOFT-CDO-ALLDAYEVENT:FALSE
SUMMARY:2022 February After Hours Hosted By Abyssinia Hair & Beauty Clinic
DESCRIPTION:February After Hours is hosted by Abyssinia Hair & Beauty Clinic. A time of socializing and tapping into new Chamber connections\, while learning about Abyssinia's treatments and services.\n\n\n\nPLEASE MAKE SURE TO REGISTER!
X-ALT-DESC;FMTTYPE=text/html:February After Hours is hosted by Abyssinia Hair &amp\; Beauty Clinic. A time of socializing and tapping into new Chamber connections\, while learning about Abyssinia&#39\;s treatments and services.<br />\n<br />\nPLEASE MAKE SURE TO REGISTER!
LOCATION:Abyssinia Hair & Beauty Clinic 203 S 2nd St Renton\, WA 98057
UID:e.16.8787
SEQUENCE:3
DTSTAMP:20260420T043448Z
URL:https://chamber.gorenton.com/events/details/2022-february-after-hours-hosted-by-abyssinia-hair-beauty-clinic-8787
END:VEVENT

END:VCALENDAR
