BEGIN:VCALENDAR
VERSION:2.0
PRODID:-//ChamberMaster//Event Calendar 2.0//EN
METHOD:PUBLISH
X-PUBLISHED-TTL:P3D
REFRESH-INTERVAL:P3D
CALSCALE:GREGORIAN
BEGIN:VEVENT
DTSTART:20220617T000000Z
DTEND:20220617T020000Z
X-MICROSOFT-CDO-ALLDAYEVENT:FALSE
SUMMARY:2022 June After Hours hosted by Hampton Inn & Suites Renton
DESCRIPTION:Join us for networking\, appetizers\, and drinks on the rooftop deck at Renton Hampton Inn & Suites.\n\nThey will be hosting June's After Hours on Thursday\, June 16th from 5p - 7p.   Mark your calendars and register ahead!
X-ALT-DESC;FMTTYPE=text/html:<span style="font-size:16px\;"><span style="font-family:arial\;"><strong>Join us for networking\, appetizers\, and drinks on the rooftop deck at Renton Hampton Inn &amp\; Suites.<br />\nThey will be hosting June&#39\;s After Hours on Thursday\, June 16th from 5p - 7p.&nbsp\; &nbsp\;Mark your calendars and register ahead!</strong></span></span>
LOCATION:Hampton Inn & Suites Renton 1300 Lake Washington Blvd. N Renton\, Washington 98056
UID:e.16.11750
SEQUENCE:3
DTSTAMP:20260420T002313Z
URL:https://chamber.gorenton.com/events/details/2022-june-after-hours-hosted-by-hampton-inn-suites-renton-11750
END:VEVENT

END:VCALENDAR
