BEGIN:VCALENDAR
VERSION:2.0
PRODID:-//ChamberMaster//Event Calendar 2.0//EN
METHOD:PUBLISH
X-PUBLISHED-TTL:P3D
REFRESH-INTERVAL:P3D
CALSCALE:GREGORIAN
BEGIN:VEVENT
DTSTART:20220501T003000Z
DTEND:20220501T060000Z
X-MICROSOFT-CDO-ALLDAYEVENT:FALSE
SUMMARY:2022 Renton Chamber Spring Fling & Auction
DESCRIPTION:Spring Fling & Auction is a fundraising event for the Renton Chamber of Commerce. \n\nThis is our biggest celebration of the year!\n\nCLICK HERE TO LEARN MORE\n\n\n\n\n\nThe Spring Fling is a fundraiser to assist us with our yearly efforts in giving back to the commUNITY.  Events such as:  The New Teachers Breakfast\, Ahead of the Class\, Ahead of the Care\, PNW Economic Equity Summit\, Honoring Our Veterans Golf Tournament\, and so much more!\n\n\n\nWhen you support the Renton Chamber of Commerce you are not only helping us continue the work we do\, but you are supporting an entire commUNITY!  The Renton Chamber of Commerce is a private membership networking organization\, but we take pride in being about commUNITY. \n\n\n\nIf our commUNITY is thriving and strong so will the businesses and non-profits inside of it! \n\n\n\nThis year's Spring Fling will include...\n\nPHOTOBOOTH\, SIGNATURE DRINKS\, BEER & WINE\, DINNER SERVICE\, DESSERT DASH\, RAFFLE DRAWINGS\, LIVE & SILENT AUCTIONS\, LOCAL ENTERTAINMENT\n\n\n\nOur emcee for the evening will be Lou Vargas\, Director at Dignity Memorial & Fancy Vargas\, CEO with Elev8 PR Management\n\n\n\n\n\nDress: Business Casual to Spring Fancy
X-ALT-DESC;FMTTYPE=text/html:<strong><font color="#2f4f4f" face="times new roman"><span style="font-size: 20px\;">Spring Fling &amp\; Auction is a fundraising event for the Renton Chamber of Commerce.&nbsp\;</span></font><br />\n<em style="color: rgb(47\, 79\, 79)\; font-family: &quot\;times new roman&quot\;\; font-size: 20px\;">This is our biggest celebration of the year!</em><br />\n<span style="font-size:24px\;"><font color="#2f4f4f" face="times new roman"><a href="https://gorenton.ejoinme.org/MyEvents/RentonChamberofCommerceSpringFlingAuction2022/tabid/1290530/Default.aspx">CLICK HERE TO LEARN MORE</a></font></span></strong><br />\n<br />\n<br />\n<span style="font-size:20px\;"><span style="font-family:times new roman\;"><span style="color:#2F4F4F\;"><strong>The Spring Fling is a fundraiser to assist us with our yearly efforts in giving back to the commUNITY.&nbsp\; Events such as:&nbsp\;&nbsp\;</strong></span></span></span><span style="font-family: arial\; font-size: 18px\;"><span style="font-size:20px\;"><span style="font-family:times new roman\;"><span style="color:#2F4F4F\;"><strong>The New Teachers Breakfast\, Ahead of the Class\, Ahead of the Care\, PNW Economic Equity Summit\, Honoring Our Veterans Golf Tournament\, and <em>so much more</em>!</strong></span></span></span></span><br />\n<br />\n<b style="color: rgb(47\, 79\, 79)\; font-family: &quot\;times new roman&quot\;\; font-size: 20px\;">When you support the Renton Chamber of Commerce you are not only helping us continue the work we do\, but you are <em>supporting an entire commUNITY</em>!&nbsp\; The Renton Chamber of Commerce is a private membership networking </b><font color="#2f4f4f" face="times new roman"><span style="font-size: 20px\;"><b>organization</b></span></font><b style="color: rgb(47\, 79\, 79)\; font-family: &quot\;times new roman&quot\;\; font-size: 20px\;">\, but we take pride in being about commUNITY.&nbsp\;<br />\n<br />\n<u>If our commUNITY is thriving and strong so will the businesses and non-profits inside of it!</u></b><u>&nbsp\;</u><br />\n<br />\n<strong><span style="font-size:20px\;"><span style="color:#2F4F4F\;"><span style="font-family:times new roman\;">This year&#39\;s Spring Fling will include...</span></span></span></strong><br />\n<strong style="color: rgb(47\, 79\, 79)\; font-family: &quot\;times new roman&quot\;\; font-size: 20px\;">PHOTOBOOTH\, SIGNATURE DRINKS\, BEER &amp\; WINE\, DINNER SERVICE\, DESSERT DASH\, RAFFLE DRAWINGS\, LIVE &amp\; SILENT AUCTIONS\, LOCAL ENTERTAINMENT</strong><br />\n<br />\n<strong><font color="#2f4f4f" face="times new roman"><span style="font-size: 20px\;">Our emcee for the evening will be Lou Vargas\, Director at Dignity Memorial &amp\; Fancy Vargas\, CEO with Elev8 PR Management</span></font></strong><br />\n<br />\n<br />\n<em><span style="color:#2F4F4F\;"><span style="font-size:20px\;"><span style="font-family:times new roman\;">Dress:&nbsp\;Business Casual to Spring Fancy</span></span></span></em>
LOCATION:Renton Pavilion & Event Center 233 Burnett Ave S
UID:e.16.11415
SEQUENCE:3
DTSTAMP:20260420T030152Z
URL:https://chamber.gorenton.com/events/details/2022-renton-chamber-spring-fling-auction-11415
END:VEVENT

END:VCALENDAR
