BEGIN:VCALENDAR
VERSION:2.0
PRODID:-//ChamberMaster//Event Calendar 2.0//EN
METHOD:PUBLISH
X-PUBLISHED-TTL:P3D
REFRESH-INTERVAL:P3D
CALSCALE:GREGORIAN
BEGIN:VEVENT
DTSTART:20221113T010000Z
DTEND:20221113T050000Z
X-MICROSOFT-CDO-ALLDAYEVENT:FALSE
SUMMARY:2022 Renton Neat
DESCRIPTION:Renton Night Market is partnering with the Renton Chamber of Commerce to be the location for Renton Neat.  Renton Neat is a spirit tasting experience right in the heart of Downtown Renton at the Pavilion & Event Center.\n\n\n\nPre-Tickets to Renton Neat are $40 and include:\n\n- Tasting coupons for the lineup of local and regional distilleries.\n\n- Voucher to use with vendors at Renton Night Market.\n\n- Plus more keepsakes\, coupons\, and samples from local businesses!\n\nTickets to Renton Neat are only valid at the tasting stalls during your session.  Before and after the sessions attendees are welcome to enjoy Renton Night Market.\n\n\nTickets at the door will be raised in price and there is no guarantee of a keepsake.\n\n\n\nRenton Night Market will be hosting 50 local vendors\, multiple food trucks & UPDJ$ will be performing.  November's Renton Night Market is open to the public between 5p - 9:30p but this month is a 21+ event.  Attendance is free to the Renton Night Market and attendees can choose to support the local vendors and businesses inside.
X-ALT-DESC;FMTTYPE=text/html:<span style="color:#000080\;"><strong><span style="font-size:20px\;"><span style="font-family:calibri\,sans-serif\;">Renton Night Market is partnering with the Renton Chamber of Commerce to be the location for Renton Neat.&nbsp\; Renton Neat is a spirit tasting experience right in the heart of Downtown Renton at the Pavilion &amp\; Event Center.</span></span></strong></span><br />\n<br />\n<span style="color: rgb(0\, 0\, 128)\; font-size: 20px\; font-family: calibri\, sans-serif\;"><strong>Pre-Tickets to Renton Neat are $40</strong>&nbsp\;and include:</span><br style="color: rgb(0\, 0\, 128)\; font-family: calibri\, sans-serif\; font-size: 24px\;" />\n<span style="color: rgb(0\, 0\, 128)\; font-size: 20px\; font-family: calibri\, sans-serif\;">- Tasting coupons for the lineup of local and regional distilleries.</span><br style="color: rgb(0\, 0\, 128)\; font-family: calibri\, sans-serif\; font-size: 24px\;" />\n<span style="color: rgb(0\, 0\, 128)\; font-size: 20px\; font-family: calibri\, sans-serif\;">- Voucher to use with vendors at Renton Night Market</span><span style="color: rgb(0\, 0\, 128)\; font-size: 20px\; font-family: calibri\, sans-serif\;">.</span><br style="color: rgb(0\, 0\, 128)\; font-family: calibri\, sans-serif\; font-size: 24px\;" />\n<span style="color: rgb(0\, 0\, 128)\; font-size: 20px\; font-family: calibri\, sans-serif\;">- Plus more keepsakes\, coupons\, and samples from local businesses!<br />\n<em><span style="font-size: 16px\;">Tickets to Renton Neat are only valid at the tasting stalls during your session.&nbsp\; Before and after the sessions attendees are welcome to enjoy Renton Night Market.</span></em></span>\n<div style="color: rgb(34\, 34\, 34)\; font-family: Arial\, Helvetica\, sans-serif\; font-size: small\;"><br />\n<strong style="color: rgb(0\, 0\, 128)\; font-size: 14px\;">Tickets at the door will be raised in price and there is no guarantee of a keepsake.</strong><br />\n<br />\n<strong style="color: rgb(0\, 0\, 128)\;"><span style="font-size: 20px\;"><span style="font-family: calibri\, sans-serif\;">Renton Night Market will be hosting&nbsp\;50 local vendors\, multiple food trucks &amp\; UPDJ$ will be performing.&nbsp\; November&#39\;s Renton Night Market is open to the public between 5p - 9:30p but this month is a 21+ event.&nbsp\; Attendance is free to the Renton Night Market and attendees can choose to support the local vendors and businesses inside.</span></span></strong></div>\n
LOCATION:Renton Pavilion & Event Center 233 Burnett Ave S
UID:e.16.13626
SEQUENCE:3
DTSTAMP:20260419T162715Z
URL:https://chamber.gorenton.com/events/details/2022-renton-neat-13626
END:VEVENT

END:VCALENDAR
