BEGIN:VCALENDAR
VERSION:2.0
PRODID:-//ChamberMaster//Event Calendar 2.0//EN
METHOD:PUBLISH
X-PUBLISHED-TTL:P3D
REFRESH-INTERVAL:P3D
CALSCALE:GREGORIAN
BEGIN:VEVENT
DTSTART;VALUE=DATE:20220813
DTEND;VALUE=DATE:20220814
TRANSP:TRANSPARENT
X-MICROSOFT-CDO-ALLDAYEVENT:TRUE
SUMMARY:2022 Sponsor's Charity Golf Tournament
DESCRIPTION:New Horizon School Scholarship Fund Please join us for the Second Annual New Horizon School Scholarship Fundraiser on August 13\, 2022 at the beautiful North Shore Golf Course in Tacoma\, WA. The Scholarship Fund makes this specialized education more accessible to lower income students by offering discounted tuition. Come enjoy a fun day on a beautiful course!
X-ALT-DESC;FMTTYPE=text/html:New Horizon School Scholarship Fund Please join us for the Second Annual New Horizon School Scholarship Fundraiser on August 13\, 2022 at the beautiful North Shore Golf Course in Tacoma\, WA. The Scholarship Fund makes this specialized education more accessible to lower income students by offering discounted tuition. Come enjoy a fun day on a beautiful course!
LOCATION:North Shore Golf Course 4101 Northshore Blvd NE Tacoma\, WA 98422
UID:e.16.13432
SEQUENCE:3
DTSTAMP:20260419T202758Z
URL:https://chamber.gorenton.com/events/details/2022-sponsor-s-charity-golf-tournament-13432
END:VEVENT

END:VCALENDAR
