BEGIN:VCALENDAR
VERSION:2.0
PRODID:-//ChamberMaster//Event Calendar 2.0//EN
METHOD:PUBLISH
X-PUBLISHED-TTL:P3D
REFRESH-INTERVAL:P3D
CALSCALE:GREGORIAN
BEGIN:VEVENT
DTSTART:20230422T180000Z
DTEND:20230422T210000Z
X-MICROSOFT-CDO-ALLDAYEVENT:FALSE
SUMMARY:2023 Rosie Rourke Team Renton Home Show
DESCRIPTION:The Renton Chamber of Commerce presents The Rosie Rourke Team Renton Home Show. Opportunity for local contractors\, electricians\, painters\, flooring installers\, interior designers and more!
X-ALT-DESC;FMTTYPE=text/html:<span style="font-size:36px\;"><font color="#000000" face="arial"><span style="white-space: pre-wrap\;"><b>The Renton Chamber of Commerce presents The Rosie Rourke Team Renton Home Show. Opportunity for local contractors\, electricians\, painters\, flooring installers\, interior designers and more! </b></span></font></span>
LOCATION:Renton Pavilion & Events Center 233 Burnett Avenue South
UID:e.16.15358
SEQUENCE:3
DTSTAMP:20260419T132737Z
URL:https://chamber.gorenton.com/events/details/2023-rosie-rourke-team-renton-home-show-15358
END:VEVENT

END:VCALENDAR
