BEGIN:VCALENDAR
VERSION:2.0
PRODID:-//ChamberMaster//Event Calendar 2.0//EN
METHOD:PUBLISH
X-PUBLISHED-TTL:P3D
REFRESH-INTERVAL:P3D
CALSCALE:GREGORIAN
BEGIN:VEVENT
DTSTART:20260917T230000Z
DTEND:20260918T010000Z
X-MICROSOFT-CDO-ALLDAYEVENT:FALSE
SUMMARY:2026 After Hours at The Landing
DESCRIPTION:Monthly After-Hours Networking | Renton Chamber of Commerce\n\nJoin us for an evening designed to help you build meaningful business connections that lead to real opportunities. Business networking is one of the Chamber's most valuable member benefits\, offering a relaxed and welcoming environment to expand your network\, strengthen relationships\, and stay visible within the local business community. Whether you are looking for referrals\, partnerships\, or a stronger presence in Renton\, this is where connections turn into growth.\n\nThis month\, we are gathering at The Landing in Renton\, in partnership with BizX. Located in one of Renton's premier shopping\, dining\, and entertainment destinations\, this After Hours event offers a vibrant and energetic setting for professional connection and collaboration.\n\nThis event gives you the opportunity to:\n\n  Make new business connections and strengthen existing relationships\n\n  Increase visibility for your business within the Renton community\n\n  Exchange referrals\, ideas\, and resources with fellow professionals\n\n  Build trust through face-to-face conversations in a relaxed setting\n\n  Discover new collaboration and partnership opportunities\n\nBring your business cards\, invite a colleague\, and make the most of an evening focused on connection\, collaboration\, and community.
X-ALT-DESC;FMTTYPE=text/html:<p data-end="287" data-start="224"><span style="color:#0000FF\;"><strong data-end="287" data-start="224">Monthly After-Hours Networking | Renton Chamber of Commerce</strong></span></p>\n\n<p data-end="758" data-start="289">Join us for an evening designed to help you build meaningful business connections that lead to real opportunities. Business networking is one of the Chamber&rsquo\;s most valuable member benefits\, offering a relaxed and welcoming environment to expand your network\, strengthen relationships\, and stay visible within the local business community. Whether you are looking for referrals\, partnerships\, or a stronger presence in Renton\, this is where connections turn into growth.</p>\n\n<p data-end="1038" data-start="760">This month\, we are gathering at <a href="https://thelandinginrenton.com/"><span style="color:#0000FF\;"><strong data-end="817" data-start="792">The Landing in Renton</strong></span></a>\, in partnership with BizX. Located in one of Renton&rsquo\;s premier shopping\, dining\, and entertainment destinations\, this After Hours event offers a vibrant and energetic setting for professional connection and collaboration.</p>\n\n<p data-end="1080" data-start="1040">This event gives you the opportunity to:</p>\n\n<p data-end="1427" data-start="1082">&bull\; Make new business connections and strengthen existing relationships<br data-end="1154" data-start="1151" />\n&bull\; Increase visibility for your business within the Renton community<br data-end="1224" data-start="1221" />\n&bull\; Exchange referrals\, ideas\, and resources with fellow professionals<br data-end="1295" data-start="1292" />\n&bull\; Build trust through face-to-face conversations in a relaxed setting<br data-end="1367" data-start="1364" />\n&bull\; Discover new collaboration and partnership opportunities</p>\n\n<p data-end="1560" data-start="1429">Bring your business cards\, invite a colleague\, and make the most of an evening focused on connection\, collaboration\, and community.</p>\n
LOCATION:The Landing 828 N 10th Pl. Renton\, WA 98057
UID:e.16.32028
SEQUENCE:3
DTSTAMP:20260422T005532Z
URL:https://chamber.gorenton.com/events/details/2026-after-hours-at-the-landing-32028
END:VEVENT

END:VCALENDAR
