BEGIN:VCALENDAR
VERSION:2.0
PRODID:-//ChamberMaster//Event Calendar 2.0//EN
METHOD:PUBLISH
X-PUBLISHED-TTL:P3D
REFRESH-INTERVAL:P3D
CALSCALE:GREGORIAN
BEGIN:VEVENT
DTSTART:20260729T230000Z
DTEND:20260730T010000Z
X-MICROSOFT-CDO-ALLDAYEVENT:FALSE
SUMMARY:2026 After Hours Networking Event | Washington Business Week & Renton Technical College
DESCRIPTION:After-Hours Networking | Washington Business Week Celebration\n\nJoin us for a special After-Hours Networking event in celebration of Washington Business Week\, in partnership with Renton Technical College (RTC).\n\nThis unique gathering brings together Chamber members\, educators\, business leaders\, and future workforce talent for an evening focused on connection\, mentorship\, and regional collaboration. Washington Business Week empowers students through real-world business experience\, and this event offers the opportunity to engage with the next generation of leaders while strengthening your professional network.\n\nBusiness networking remains one of the Chamber's most valuable member benefits. Whether you are seeking referrals\, partnerships\, community engagement opportunities\, or ways to support workforce development\, this event provides meaningful connection in a welcoming environment.\n\nThis event gives you the opportunity to:\n\n  Build valuable business relationships across industries\n\n  Connect with educators and workforce development partners\n\n  Support and engage with emerging business leaders\n\n  Exchange ideas and insights with professionals throughout the region\n\n  Discover collaboration and community impact opportunities\n\nBring your business cards\, invite a colleague\, and join us for an evening that blends networking\, workforce engagement\, and community connection.
X-ALT-DESC;FMTTYPE=text/html:<p data-end="329" data-start="264"><span style="color:#0000FF\;"><strong data-end="329" data-start="264">After-Hours Networking | Washington Business Week Celebration</strong></span></p>\n\n<p data-end="477" data-start="331">Join us for a special After-Hours Networking event in celebration of Washington Business Week\, in partnership with Renton Technical College (RTC).</p>\n\n<p data-end="882" data-start="479">This unique gathering brings together Chamber members\, educators\, business leaders\, and future workforce talent for an evening focused on connection\, mentorship\, and regional collaboration. Washington Business Week empowers students through real-world business experience\, and this event offers the opportunity to engage with the next generation of leaders while strengthening your professional network.</p>\n\n<p data-end="1160" data-start="884">Business networking remains one of the Chamber&rsquo\;s most valuable member benefits. Whether you are seeking referrals\, partnerships\, community engagement opportunities\, or ways to support workforce development\, this event provides meaningful connection in a welcoming environment.</p>\n\n<p data-end="1202" data-start="1162">This event gives you the opportunity to:</p>\n\n<p data-end="1514" data-start="1204">&bull\; Build valuable business relationships across industries<br data-end="1264" data-start="1261" />\n&bull\; Connect with educators and workforce development partners<br data-end="1326" data-start="1323" />\n&bull\; Support and engage with emerging business leaders<br data-end="1380" data-start="1377" />\n&bull\; Exchange ideas and insights with professionals throughout the region<br data-end="1453" data-start="1450" />\n&bull\; Discover collaboration and community impact opportunities</p>\n\n<p data-end="1661" data-start="1516">Bring your business cards\, invite a colleague\, and join us for an evening that blends networking\, workforce engagement\, and community connection.</p>\n
LOCATION:Location: TBD Additional details will be announced soon.
UID:e.16.32026
SEQUENCE:3
DTSTAMP:20260422T005653Z
URL:https://chamber.gorenton.com/events/details/2026-after-hours-networking-event-washington-business-week-renton-technical-college-32026
END:VEVENT

END:VCALENDAR
