BEGIN:VCALENDAR
VERSION:2.0
PRODID:-//ChamberMaster//Event Calendar 2.0//EN
METHOD:PUBLISH
X-PUBLISHED-TTL:P3D
REFRESH-INTERVAL:P3D
CALSCALE:GREGORIAN
BEGIN:VEVENT
DTSTART:20260515T000000Z
DTEND:20260515T020000Z
X-MICROSOFT-CDO-ALLDAYEVENT:FALSE
SUMMARY:2026 CTE Community Night: Building Futures Together
DESCRIPTION:Join us for an evening of connection and collaboration as the Renton School District's Career & Technical Education (CTE) department  invites their workforce development and community partners in to highlight student pathways that strengthen our community and workforce.  Hear from the Department\, Teachers and the Students and tour the classrooms to see where the learning happens.\n\nThis event is a crowd favorite year after year\, as attendees are continually impressed by the skills students are developing\, the innovative tools they're using\, and the future leaders they're becoming!
X-ALT-DESC;FMTTYPE=text/html:<p><span class="a_GcMg font-feature-liga-off font-feature-clig-off font-feature-calt-off text-decoration-none text-strikethrough-none" style="color: rgba(0\,0\,0\,var(--O42jJQ\,1))\; caret-color: rgb(0\, 0\, 0)\; --Ys-XuQ: none\; font-style: italic\; font-kerning: none\;">Join us for an evening of connection and collaboration as the</span><span class="a_GcMg font-feature-liga-off font-feature-clig-off font-feature-calt-off text-decoration-none text-strikethrough-none" style="color: rgba(228\,30\,38\,var(--O42jJQ\,1))\; caret-color: rgb(228\, 30\, 38)\; --Ys-XuQ: none\; font-style: italic\; font-kerning: none\;"> </span><span class="a_GcMg font-feature-liga-off font-feature-clig-off font-feature-calt-off text-decoration-none text-strikethrough-none" style="color: rgba(228\,30\,38\,var(--O42jJQ\,1))\; caret-color: rgb(228\, 30\, 38)\; --Ys-XuQ: none\; font-weight: 700\; font-kerning: none\;">Renton School District&rsquo\;s Career &amp\; Technical Education (CTE) department</span><span class="a_GcMg font-feature-liga-off font-feature-clig-off font-feature-calt-off text-decoration-none text-strikethrough-none white-space-prewrap" style="color: rgba(228\,30\,38\,var(--O42jJQ\,1))\; caret-color: rgb(228\, 30\, 38)\; --Ys-XuQ: none\; font-weight: 700\; font-kerning: none\;"> </span><span class="a_GcMg font-feature-liga-off font-feature-clig-off font-feature-calt-off text-decoration-none text-strikethrough-none white-space-prewrap" style="color: rgba(228\,30\,38\,var(--O42jJQ\,1))\; caret-color: rgb(228\, 30\, 38)\; --Ys-XuQ: none\; font-kerning: none\;"> </span><span class="a_GcMg font-feature-liga-off font-feature-clig-off font-feature-calt-off text-decoration-none text-strikethrough-none" style="color: rgba(0\,0\,0\,var(--O42jJQ\,1))\; caret-color: rgb(0\, 0\, 0)\; --Ys-XuQ: none\; font-style: italic\; font-kerning: none\;">invites their workforce development and community partners in to highlight student pathways that strengthen our community and workforce.&nbsp\; Hear from the Department\, Teachers and the Students and tour the classrooms to see where the learning happens.</span></p>\n\n<p>This event is a crowd favorite year after year\, as attendees are continually impressed by the skills students are developing\, the innovative tools they&rsquo\;re using\, and the future leaders they&rsquo\;re becoming!</p>\n
LOCATION:Albert Talley High School (Renton School District) 7800 S 132nd St\, Seattle
UID:e.16.32738
SEQUENCE:3
DTSTAMP:20260425T222734Z
URL:https://chamber.gorenton.com/events/details/2026-cte-community-night-building-futures-together-32738
END:VEVENT

END:VCALENDAR
