BEGIN:VCALENDAR
VERSION:2.0
PRODID:-//ChamberMaster//Event Calendar 2.0//EN
METHOD:PUBLISH
X-PUBLISHED-TTL:P3D
REFRESH-INTERVAL:P3D
CALSCALE:GREGORIAN
BEGIN:VEVENT
DTSTART:20190725T233000Z
DTEND:20190726T013000Z
X-MICROSOFT-CDO-ALLDAYEVENT:FALSE
SUMMARY:3 Chamber AFTER HOURS - Luau at the Red Lion
DESCRIPTION:Not only is this a perfect opportunity to mix and mingle with businesses from all three chambers\, it's also a huge celebration of our local business community. Complete with Polynesian food\, live music & dancing\, hydroplane display and a chance to meet Seafair Champion Jimmy Shane this\, is an event you won't want to miss.\n\n\n\nThe pool will be open and swimwear is encouraged!\n\n\n\nThen\, stick around for the after-party inside at the Red Lion bar. You can relax for the night\, knowing that guest rooms are available at a discounted group rate.\n\n\n\nAll the details are covered and we hope you'll join us!\n\n\n\nThis year we'll be collecting donations for local nonprofit\, ANEW - an organization dedicated to improving people's lives by providing quality training\, employment navigation and supportive services leading to successful family wage careers.\n\n \n\nRed Lion Room Rate: LUAU2019 for online\, or call hotel direct and inquire to the GOOD NEIGHBOR rate.  It is $109.00\, and is good based on availability.
X-ALT-DESC;FMTTYPE=text/html:<p style="margin: 0in 0in 0pt\;">Not only is this a perfect opportunity to mix and mingle with businesses from all three chambers\, it&#39\;s also a huge celebration of our local business community. Complete with Polynesian food\, live music &amp\; dancing\, hydroplane display and a chance to meet Seafair Champion Jimmy Shane this\, is an event you won&#39\;t want to miss.<br />\n<br />\nThe pool will be open and swimwear is encouraged!<br />\n<br />\nThen\, stick around for the after-party inside at the Red Lion bar. You can relax for the night\, knowing that guest rooms are available at a discounted group rate.<br />\n<br />\nAll the details are covered and we hope you&#39\;ll join us!<br />\n<br />\nThis year we&#39\;ll be collecting donations for local nonprofit\, ANEW - an organization dedicated to improving people&rsquo\;s lives by providing quality training\, employment navigation and supportive services leading to successful family wage careers.<br />\n&nbsp\;</p>\n\n<p><span style="font-size:14px\;"><span style="color: black\;">Red Lion Room Rate: </span></span><span style="display: inline !important\; float: none\; background-color: rgb(255\, 255\, 255)\; color: black\; font-family: &quot\;wf_segoe-ui_normal&quot\;\,&quot\;Segoe UI&quot\;\,&quot\;Segoe WP&quot\;\,Tahoma\,Arial\,sans-serif\,serif\,&quot\;EmojiFont&quot\;\; font-size: 12pt\; font-style: normal\; font-variant: normal\; font-weight: 400\; letter-spacing: normal\; orphans: 2\; text-align: left\; text-decoration: none\; text-indent: 0px\; text-transform: none\; -webkit-text-stroke-width: 0px\; white-space: normal\; word-spacing: 0px\;">LUAU2019</span><span style="font-size:14px\;"><span style="color: black\;"> for online\, or call hotel direct and inquire to the GOOD NEIGHBOR rate.&nbsp\; It is $109.00\, and is good based on availability.</span></span></p>\n\n<p style="margin: 0in 0in 0pt\;"><br />\n&nbsp\;</p>\n
LOCATION:Red Lion Hotel & Conference Center Seattle/Renton 1 S. Grady Way Renton\, WA 98057
UID:e.16.6004
SEQUENCE:3
DTSTAMP:20260424T005801Z
URL:https://chamber.gorenton.com/events/details/3-chamber-after-hours-luau-at-the-red-lion-6004
END:VEVENT

END:VCALENDAR
