BEGIN:VCALENDAR
VERSION:2.0
PRODID:-//ChamberMaster//Event Calendar 2.0//EN
METHOD:PUBLISH
X-PUBLISHED-TTL:P3D
REFRESH-INTERVAL:P3D
CALSCALE:GREGORIAN
BEGIN:VEVENT
DTSTART:20221213T190000Z
DTEND:20221215T100000Z
X-MICROSOFT-CDO-ALLDAYEVENT:FALSE
SUMMARY:3-DAYS-FREE to the Public! TUES/WED/THURS Learn Computer Basics this week at Renton Technical College
DESCRIPTION:LEARN HOW TO:   Operate a computer   Manage files   Access emails\, calendars\, and Canvas   Use online and desktop applications Free introduction to computers course! Computer Basics provides new computer users and new students an opportunity to perform basic tasks such as turning on and off the computer\, using operating system and manage windows\, accessing email and their courses online in Canvas. Students will also be introduced to word processing\,spreadsheet\, and presentation applications.
X-ALT-DESC;FMTTYPE=text/html:LEARN HOW TO: &bull\; Operate a computer &bull\; Manage files &bull\; Access emails\, calendars\, and Canvas &bull\; Use online and desktop applications Free introduction to computers course! Computer Basics provides new computer users and new students an opportunity to perform basic tasks such as turning on and off the computer\, using operating system and manage windows\, accessing email and their courses online in Canvas. Students will also be introduced to word processing\,spreadsheet\, and presentation applications.
LOCATION:Renton Technical College Main campus: 4th and Monroe Renton\, WA 98056 Free Parking 11am to 2pm Tuesday\, Wednesday and Thursday
UID:e.16.13824
SEQUENCE:3
DTSTAMP:20260419T163127Z
URL:https://chamber.gorenton.com/events/details/3-days-free-to-the-public-tues-wed-thurs-learn-computer-basics-this-week-at-renton-technical-college-13824
END:VEVENT

END:VCALENDAR
