BEGIN:VCALENDAR
VERSION:2.0
PRODID:-//ChamberMaster//Event Calendar 2.0//EN
METHOD:PUBLISH
X-PUBLISHED-TTL:P3D
REFRESH-INTERVAL:P3D
CALSCALE:GREGORIAN
BEGIN:VEVENT
DTSTART:20181109T160000Z
DTEND:20181125T010000Z
X-MICROSOFT-CDO-ALLDAYEVENT:FALSE
SUMMARY:34th Annual Christmas Sale
DESCRIPTION:Christmas comes to downtown Renton! Cugini Florists & Fine Gifts hosts its 34th Annual Christmas Sale. All giftware is on sale from 25% to 50% Off! See what's new and enjoy cookies and a cup of Bill's famous spiced cider.
X-ALT-DESC;FMTTYPE=text/html:Christmas comes to downtown Renton! Cugini Florists &amp\; Fine Gifts hosts its 34th Annual Christmas Sale. All giftware is on sale from 25% to 50% Off! See what&#39\;s new and enjoy cookies and a cup of Bill&#39\;s famous spiced cider.
LOCATION:413 S. Third St. Renton\, WA 98057
UID:e.16.5944
SEQUENCE:3
DTSTAMP:20260424T135807Z
URL:https://chamber.gorenton.com/events/details/34th-annual-christmas-sale-5944
END:VEVENT

END:VCALENDAR
