BEGIN:VCALENDAR
VERSION:2.0
PRODID:-//ChamberMaster//Event Calendar 2.0//EN
METHOD:PUBLISH
X-PUBLISHED-TTL:P3D
REFRESH-INTERVAL:P3D
CALSCALE:GREGORIAN
BEGIN:VEVENT
DTSTART:20221002T010000Z
DTEND:20221002T040000Z
X-MICROSOFT-CDO-ALLDAYEVENT:FALSE
SUMMARY:38th Annual Golden Gala: Celebrating 55 Years of Reimagining the Tale of Aging with Sound Generations!
DESCRIPTION:Join Sound Generations in celebrating 55 years of serving older adults\, adults with disabilities\, and those who care for them in King County. \n\nThis year\, we're going green to ensure we can continue to preserve the wellbeing of older adults while extending lifelines of support. Join us in embracing sustainable living so that together we can preserve the magic of the Emerald City as a safe place for aging well.
X-ALT-DESC;FMTTYPE=text/html:Join Sound Generations in celebrating 55 years of serving older adults\, adults with disabilities\, and those who care for them in King County.&nbsp\;<br />\nThis year\, we&#39\;re going green to ensure we can continue to preserve the wellbeing of older adults while extending lifelines of support. Join us in embracing sustainable living so that together we can preserve the magic of the Emerald City as a safe place for aging well.&nbsp\;
LOCATION:Seattle Airport Marriott\, 3201 S 176th St\, Seattle\, WA 98188
UID:e.16.13581
SEQUENCE:3
DTSTAMP:20260419T175152Z
URL:https://chamber.gorenton.com/events/details/38th-annual-golden-gala-celebrating-55-years-of-reimagining-the-tale-of-aging-with-sound-generations-13581
END:VEVENT

END:VCALENDAR
