BEGIN:VCALENDAR
VERSION:2.0
PRODID:-//ChamberMaster//Event Calendar 2.0//EN
METHOD:PUBLISH
X-PUBLISHED-TTL:P3D
REFRESH-INTERVAL:P3D
CALSCALE:GREGORIAN
BEGIN:VEVENT
DTSTART:20210113T003000Z
DTEND:20210113T013000Z
X-MICROSOFT-CDO-ALLDAYEVENT:FALSE
SUMMARY:4:30p Break Free from Student Debt - for educators and those in nonprofits
DESCRIPTION:Do you have student debt?\n\n \n\nAre you involved in the world of education or nonprofits?\n\n\n\n\n\nLearn more ways to remove or reduce monthly payments and redirect any savings to retirement to help you get on the road to financial success.\n\n \n\nYou will learn ways to REMOVE\, REDUCE and REDIRECT.\n\n \n\nTwo no cost opportunities for you to listen & learn.\n\n \n\nYou are welcome to share this opportunity with educators and those in nonprofits.
X-ALT-DESC;FMTTYPE=text/html:<p><span style="font-family:times new roman\;"><span style="font-size:20px\;"><strong>Do you have student debt?</strong></span></span></p>\n\n<p>&nbsp\;</p>\n\n<p><span style="font-family:times new roman\;"><span style="font-size:20px\;"><strong>Are you involved in the world of education or nonprofits?</strong></span></span></p>\n\n<p><br />\n<br />\n<span style="font-family:times new roman\;"><span style="font-size:20px\;"><strong>Learn more ways to remove or reduce monthly payments and redirect any savings to retirement to help you get on the road to financial success.</strong></span></span></p>\n\n<p>&nbsp\;</p>\n\n<p><span style="font-family:times new roman\;"><span style="font-size:20px\;"><strong>You will learn ways to REMOVE\, REDUCE and REDIRECT.</strong></span></span></p>\n\n<p>&nbsp\;</p>\n\n<p><span style="font-family:times new roman\;"><span style="font-size:20px\;"><strong>Two no cost opportunities for you to listen &amp\; learn.</strong></span></span></p>\n\n<p>&nbsp\;</p>\n\n<p><span style="font-family:times new roman\;"><span style="font-size:20px\;"><strong>You are welcome to share this opportunity with educators and those in nonprofits.&nbsp\;&nbsp\;</strong></span></span></p>\n
LOCATION:Via Zoom - Register Here for Access Link: https://go.oncehub.com/RetiringBetterRCSLS
UID:e.16.7133
SEQUENCE:3
DTSTAMP:20260420T225206Z
URL:https://chamber.gorenton.com/events/details/4-30p-break-free-from-student-debt-for-educators-and-those-in-nonprofits-7133
END:VEVENT

END:VCALENDAR
