BEGIN:VCALENDAR
VERSION:2.0
PRODID:-//ChamberMaster//Event Calendar 2.0//EN
METHOD:PUBLISH
X-PUBLISHED-TTL:P3D
REFRESH-INTERVAL:P3D
CALSCALE:GREGORIAN
BEGIN:VEVENT
DTSTART:20181117T030000Z
DTEND:20181117T050000Z
X-MICROSOFT-CDO-ALLDAYEVENT:FALSE
SUMMARY:A Hero’s Journey - Marshall Law Band’s Hip-Opera & Theatrical EP Release
DESCRIPTION:Witness a production the likes Seattle has never seen! Marshall Law Band and Friends are celebrating their debut EP release with a theatrical performance/concert coined as a "Hip-Opera" Presale Ticket Options: Warrior Ticket: $15   Assigned seating in rows 15-30   1 raffle ticket   Free Ep download Link Hero Ticket: $30   Assigned seating in rows 6-14   2 raffle tickets   Free Ep download link   Post production meet & greet   1 Guardian Angel Ticket SuperHero Ticket: $60   Assigned seating in rows 1-5   3 raffle tickets   Free EP Download link   MLB T-shirt   Heros Journey signed poster   Post production meet & greet   2 Guardian Angel Tickets
X-ALT-DESC;FMTTYPE=text/html:Witness a production the likes Seattle has never seen! Marshall Law Band and Friends are celebrating their debut EP release with a theatrical performance/concert coined as a &ldquo\;Hip-Opera&rdquo\; Presale Ticket Options: Warrior Ticket: $15 &ndash\; Assigned seating in rows 15-30 &ndash\; 1 raffle ticket &ndash\; Free Ep download Link Hero Ticket: $30 &ndash\; Assigned seating in rows 6-14 &ndash\; 2 raffle tickets &ndash\; Free Ep download link &ndash\; Post production meet &amp\; greet &ndash\; 1 Guardian Angel Ticket SuperHero Ticket: $60 &ndash\; Assigned seating in rows 1-5 &ndash\; 3 raffle tickets &ndash\; Free EP Download link &ndash\; MLB T-shirt &ndash\; Heros Journey signed poster &ndash\; Post production meet &amp\; greet &ndash\; 2 Guardian Angel Tickets
LOCATION:Carco Theatre 1717 Maple Valley Hwy Renton\, WA 98057
UID:e.16.5949
SEQUENCE:3
DTSTAMP:20260424T124027Z
URL:https://chamber.gorenton.com/events/details/a-hero-s-journey-marshall-law-band-s-hip-opera-theatrical-ep-release-5949
END:VEVENT

END:VCALENDAR
