BEGIN:VCALENDAR
VERSION:2.0
PRODID:-//ChamberMaster//Event Calendar 2.0//EN
METHOD:PUBLISH
X-PUBLISHED-TTL:P3D
REFRESH-INTERVAL:P3D
CALSCALE:GREGORIAN
BEGIN:VEVENT
DTSTART:20220620T010000Z
DTEND:20220620T033000Z
X-MICROSOFT-CDO-ALLDAYEVENT:FALSE
SUMMARY:A JUNETEENTH CELEBRATION: The Songs of Black Folk Music of Resistance & Hope
DESCRIPTION:A first of a kind\, free Juneteenth concert at McCaw Hall. This Concert will expose the audience to the Negro Spirituals and the diverse musical traditions that they have spawned including\, Gospel\, jazz\, R&B\, and even Hip-Hop.  The Conductors will guide a journey through a musical culture that has functioned as a tool of resistance and as a source of hope for a Black people who have endured four centuries of white supremacy and its unrelenting assault on Black lives and Black bodies.  The intent of this Concert is to use music to connect the African American struggle for freedom and justice with the struggles of other Americans who have had to fight their way in from the margins of our society.\n\n\n\nGet your tickets today!
X-ALT-DESC;FMTTYPE=text/html:<strong><span style="font-size:16px\;">A first of a kind\, free Juneteenth concert at McCaw Hall. This Concert will expose the audience to the <em>Negro Spirituals</em> and the diverse musical traditions that they have spawned including\, Gospel\, jazz\, R&amp\;B\, and even Hip-Hop.&nbsp\; The Conductors will guide a journey through a musical culture that has functioned as a tool of resistance and as a source of hope for a Black people who have endured four centuries of white supremacy and its unrelenting assault on Black lives and Black bodies.&nbsp\; The intent of this Concert is to use music to connect the African American struggle for freedom and justice with the struggles of other Americans who have had to fight their way in from the margins of our society.<br />\n<br />\n<a href="https://one-seattle.ticketleap.com/juneteenth/" target="_blank">Get your tickets today!</a></span></strong>
LOCATION:McCaw Hall 321 Mercer Street Seattle WA 98109
UID:e.16.11832
SEQUENCE:3
DTSTAMP:20260420T002958Z
URL:https://chamber.gorenton.com/events/details/a-juneteenth-celebration-the-songs-of-black-folk-music-of-resistance-hope-11832
END:VEVENT

END:VCALENDAR
