BEGIN:VCALENDAR
VERSION:2.0
PRODID:-//ChamberMaster//Event Calendar 2.0//EN
METHOD:PUBLISH
X-PUBLISHED-TTL:P3D
REFRESH-INTERVAL:P3D
CALSCALE:GREGORIAN
BEGIN:VEVENT
DTSTART:20180826T020000Z
DTEND:20180826T050000Z
X-MICROSOFT-CDO-ALLDAYEVENT:FALSE
SUMMARY:ACME Bowl's The Queen Pin Bowling Classic
DESCRIPTION:The Queen Pin Bowling Classic.\n\nWho will be crowned "Belle of the Balls" ?\n\n100% of proceeds goes to benefit Burien Pride's LGBTQ+ Scholarship Fund.\n\nHosted by ACME Bowl
X-ALT-DESC;FMTTYPE=text/html:The Queen Pin Bowling Classic.<br />\nWho will be crowned &quot\;<span style="font-family:comic sans ms\;">Belle of the Balls</span>&quot\; ?<br />\n100% of proceeds goes to benefit Burien Pride&#39\;s LGBTQ+ Scholarship Fund.<br />\nHosted by ACME Bowl
LOCATION:ACME Bowling Billiards & Events 100 Andover Park W #100 Tukwila\, WA 98188
UID:e.16.5889
SEQUENCE:3
DTSTAMP:20260424T170151Z
URL:https://chamber.gorenton.com/events/details/acme-bowl-s-the-queen-pin-bowling-classic-5889
END:VEVENT

END:VCALENDAR
