BEGIN:VCALENDAR
VERSION:2.0
PRODID:-//ChamberMaster//Event Calendar 2.0//EN
METHOD:PUBLISH
X-PUBLISHED-TTL:P3D
REFRESH-INTERVAL:P3D
CALSCALE:GREGORIAN
BEGIN:VEVENT
DTSTART:20221017T013500Z
DTEND:20221017T030000Z
X-MICROSOFT-CDO-ALLDAYEVENT:FALSE
SUMMARY:Adult Learn to Play
DESCRIPTION:Ever want to give hockey a try? Looking for a night out to try something new\, have fun and get some bonus exercise at the same time? Perhaps you used to play hockey and want to improve on your skills? Or\, maybe your already part of an Adult League and interested in improving your playing skills.\n\nJoin our CO-ED Adult Learn to Play Beginner or Intermediate sessions!
X-ALT-DESC;FMTTYPE=text/html:<p>Ever want to give hockey a try? Looking for a night out to try something new\, have fun and get some bonus exercise at the same time? Perhaps you used to play hockey and want to improve on your skills? Or\, maybe your already part of an Adult League&nbsp\;and interested in improving your playing skills.</p>\n\n<p>Join our CO-ED Adult Learn to Play Beginner or Intermediate sessions!</p>\n
LOCATION:Sno-King Ice Arena\, Renton
UID:e.16.13603
SEQUENCE:3
DTSTAMP:20260419T174510Z
URL:https://chamber.gorenton.com/events/details/adult-learn-to-play-10-16-2022-13603
END:VEVENT

END:VCALENDAR
