BEGIN:VCALENDAR
VERSION:2.0
PRODID:-//ChamberMaster//Event Calendar 2.0//EN
METHOD:PUBLISH
X-PUBLISHED-TTL:P3D
REFRESH-INTERVAL:P3D
CALSCALE:GREGORIAN
BEGIN:VEVENT
DTSTART:20200124T010000Z
DTEND:20200124T030000Z
X-MICROSOFT-CDO-ALLDAYEVENT:FALSE
SUMMARY:After Hours at Yankee Grill with MB Daniels Mortuary
DESCRIPTION:Join us and network at our first After Hours of the year sponsored by MB Daniels Mortuary at Yankee Grill & Bar.\n\nMeet Reverend Micah B. Daniel as he graciously host our event.\n\nThe Yankee Grill has a new owner and management crew and is ready to bring the restaurant back to its former glory! The menu is updated\, the food quality is fantastic\, the service is great and the "old normal" hours are back including happy hour every day!\n\nMeet fellow business owners\, community members and introduce yourself and your business to others!
X-ALT-DESC;FMTTYPE=text/html:<p>Join us and network at our first After Hours of the year sponsored by MB Daniels Mortuary at Yankee Grill &amp\; Bar.<br />\nMeet Reverend Micah B. Daniel as he graciously host our event.<br />\n<span style="background:white\;"><span style="color:black\;"><span style="font-family:arial\,sans-serif\;"><span style="font-size:10.5pt\;">The Yankee Grill has a new owner and management crew and is ready to bring the restaurant back to its former glory! The menu is updated\, the food quality is fantastic\, the service is great and the &quot\;old normal&quot\; hours are back including happy hour every day!</span></span></span></span></p>\n\n<p><span style="background:white\;"><span style="color:black\;"><span style="font-family:arial\,sans-serif\;"><span style="font-size:10.5pt\;">Meet fellow business owners\, community members and introduce yourself and your business to others!</span></span></span></span></p>\n
LOCATION:Yankee Grill & Bar 1 S Grady Way Renton\, WA 98057
UID:e.16.6730
SEQUENCE:3
DTSTAMP:20260423T162321Z
URL:https://chamber.gorenton.com/events/details/after-hours-at-yankee-grill-with-mb-daniels-mortuary-6730
END:VEVENT

END:VCALENDAR
