BEGIN:VCALENDAR
VERSION:2.0
PRODID:-//ChamberMaster//Event Calendar 2.0//EN
METHOD:PUBLISH
X-PUBLISHED-TTL:P3D
REFRESH-INTERVAL:P3D
CALSCALE:GREGORIAN
BEGIN:VEVENT
DTSTART:20260201T040000Z
DTEND:20260201T053000Z
X-MICROSOFT-CDO-ALLDAYEVENT:FALSE
SUMMARY:After Hours Concert with Andre Feriante and Eric Fridrich
DESCRIPTION:Andre performs on a wide array of stringed instruments from around the world (some of which you've almost certainly never heard in person). Eric is a talented vocalist and will perform some of his original songs inspired by the blues and growing up in Chicago. They've both performed at Benaroya Hall\, the Triple Door\, and many other fine venues.\n\n\n\nAndre and Eric are starting an official musical duo and this will be their debut duo performance!
X-ALT-DESC;FMTTYPE=text/html:Andre performs on a wide array of stringed instruments from around the world (some of which you&rsquo\;ve almost certainly never heard in person). Eric is a talented vocalist and will perform some of his original songs inspired by the blues and growing up in Chicago. They&#39\;ve both performed at Benaroya Hall\, the Triple Door\, and many other fine venues.<br />\n<br />\nAndre and Eric are starting an official musical duo and this will be their debut duo performance!
LOCATION:Drum Roll Wine 911 S. Third St. Renton\, WA 98057
UID:e.16.31574
SEQUENCE:3
DTSTAMP:20260426T011757Z
URL:https://chamber.gorenton.com/events/details/after-hours-concert-with-andre-feriante-and-eric-fridrich-31574
END:VEVENT

END:VCALENDAR
