BEGIN:VCALENDAR
VERSION:2.0
PRODID:-//ChamberMaster//Event Calendar 2.0//EN
METHOD:PUBLISH
X-PUBLISHED-TTL:P3D
REFRESH-INTERVAL:P3D
CALSCALE:GREGORIAN
BEGIN:VEVENT
DTSTART:20260419T030000Z
DTEND:20260419T050000Z
X-MICROSOFT-CDO-ALLDAYEVENT:FALSE
SUMMARY:After Hours concert with Gallowglass
DESCRIPTION:With a combination of emotional vocal delivery\, fresh melodic arrangements\, and airtight accompaniment\, Gallowglass has developed a style of contemporary Celtic folk that Irish Music Magazine calls "an inspired approach to the tradition." The group\, featuring Jan Peters (vocals\, harmonica)\, Mishon Kirkland (vocals\, Irish flute)\, Zach Bauman (Irish Bouzouki) and David Pender Lofgren (Bodhr n)\, has become one of the Pacific Northwest's most celebrated Celtic music ensembles. Gallowglass has shared the stage with Dervish\, Peter Rowan\, Jolie Holland\, and other luminaries of the folk scene\, establishing themselves as innovators among their peers and captivating audiences with their signature sound. The release of their album\, 'Dear Ruin' in 2024\, has garnered critical acclaim and is enjoying international radio play. While Gallowglass is steeped in tradition\, they are keeping their eyes on the horizon and have built a fire for all to gather around.
X-ALT-DESC;FMTTYPE=text/html:<span style="font-family:ubuntu\,sans-serif\; font-size:16px">With a combination of emotional vocal delivery\, fresh melodic arrangements\, and airtight accompaniment\, Gallowglass has developed a style of contemporary Celtic folk that Irish Music Magazine calls &quot\;an inspired approach to the tradition.&quot\; The group\, featuring Jan Peters (vocals\, harmonica)\, Mishon Kirkland (vocals\, Irish flute)\, Zach Bauman (Irish Bouzouki) and David Pender Lofgren (Bodhr&aacute\;n)\, has become one of the Pacific Northwest&#39\;s most celebrated Celtic music ensembles. Gallowglass has shared the stage with Dervish\, Peter Rowan\, Jolie Holland\, and other luminaries of the folk scene\, establishing themselves as innovators among their peers and captivating audiences with their signature sound. The release of their album\, &#39\;Dear Ruin&#39\; in 2024\, has garnered critical acclaim and is enjoying international radio play. While Gallowglass is steeped in tradition\, they are keeping their eyes on the horizon and have built a fire for all to gather around.</span>
LOCATION:Drum Roll Wine\, 911 S. 3rd St.\, Renton\, WA 98057
UID:e.16.32053
SEQUENCE:3
DTSTAMP:20260425T223229Z
URL:https://chamber.gorenton.com/events/details/after-hours-concert-with-gallowglass-32053
END:VEVENT

END:VCALENDAR
