BEGIN:VCALENDAR
VERSION:2.0
PRODID:-//ChamberMaster//Event Calendar 2.0//EN
METHOD:PUBLISH
X-PUBLISHED-TTL:P3D
REFRESH-INTERVAL:P3D
CALSCALE:GREGORIAN
BEGIN:VEVENT
DTSTART:20260215T040000Z
DTEND:20260215T060000Z
X-MICROSOFT-CDO-ALLDAYEVENT:FALSE
SUMMARY:After Hours Concert with Lulu Swing
DESCRIPTION:Bring your Valentine\, Palentine\, or Galentine to hear this Seattle-based\, all female ensemble specializing in 1930s Hot Club Swing and Gypsy Jazz with a Latin twist. They'll bring the fun and we'll bring the wine! This promises to be a delightful evening celebrating love and connection.
X-ALT-DESC;FMTTYPE=text/html:Bring your Valentine\, Palentine\, or Galentine to hear this Seattle-based\, all female ensemble specializing in 1930s Hot Club Swing and Gypsy Jazz with a Latin twist. They&#39\;ll bring the fun and we&#39\;ll bring the wine! This promises to be a delightful evening celebrating love and connection.
LOCATION:Drum Roll Wine 911 S. Third St. Renton\, WA 98057
UID:e.16.31576
SEQUENCE:3
DTSTAMP:20260425T235720Z
URL:https://chamber.gorenton.com/events/details/after-hours-concert-with-lulu-swing-02-14-2026-31576
END:VEVENT

END:VCALENDAR
