BEGIN:VCALENDAR
VERSION:2.0
PRODID:-//ChamberMaster//Event Calendar 2.0//EN
METHOD:PUBLISH
X-PUBLISHED-TTL:P3D
REFRESH-INTERVAL:P3D
CALSCALE:GREGORIAN
BEGIN:VEVENT
DTSTART:20221216T010000Z
DTEND:20221216T030000Z
X-MICROSOFT-CDO-ALLDAYEVENT:FALSE
SUMMARY:After Hours hosted by Hudson's Photography & Rosie Rourke Team
DESCRIPTION:You're invited for some holiday cheer to celebrate this special time of year!
X-ALT-DESC;FMTTYPE=text/html:You&#39\;re invited for some holiday cheer to celebrate this special time of year!
LOCATION:Rosie Rourke Team Office 16333 SE Petrovitsky Rd. Renton\, WA 98058
UID:e.16.13587
SEQUENCE:3
DTSTAMP:20260419T151121Z
URL:https://chamber.gorenton.com/events/details/after-hours-hosted-by-hudson-s-photography-rosie-rourke-team-13587
END:VEVENT

END:VCALENDAR
