BEGIN:VCALENDAR
VERSION:2.0
PRODID:-//ChamberMaster//Event Calendar 2.0//EN
METHOD:PUBLISH
X-PUBLISHED-TTL:P3D
REFRESH-INTERVAL:P3D
CALSCALE:GREGORIAN
BEGIN:VEVENT
DTSTART;VALUE=DATE:20220922
DTEND;VALUE=DATE:20220923
TRANSP:TRANSPARENT
X-MICROSOFT-CDO-ALLDAYEVENT:TRUE
SUMMARY:After Hours hosted by Village Concepts of Fairwood
DESCRIPTION:Mark your calendar for the 4th Thursday for our monthly member hosted After Hours.\n\nCome prepared to network!\n\n\n\nIn September we will be going to Village Concepts of Fairwood... register & stay tuned for more details...
X-ALT-DESC;FMTTYPE=text/html:Mark your calendar for the 4th Thursday for our monthly member hosted After Hours.<br />\nCome prepared to network!<br />\n<br />\nIn September we will be going to Village Concepts of Fairwood... register &amp\; stay tuned for more details...
LOCATION:
UID:e.16.13568
SEQUENCE:3
DTSTAMP:20260419T190323Z
URL:https://chamber.gorenton.com/events/details/after-hours-hosted-by-village-concepts-of-fairwood-13568
END:VEVENT

END:VCALENDAR
