BEGIN:VCALENDAR
VERSION:2.0
PRODID:-//ChamberMaster//Event Calendar 2.0//EN
METHOD:PUBLISH
X-PUBLISHED-TTL:P3D
REFRESH-INTERVAL:P3D
CALSCALE:GREGORIAN
BEGIN:VEVENT
DTSTART:20221118T000000Z
DTEND:20221118T020000Z
X-MICROSOFT-CDO-ALLDAYEVENT:FALSE
SUMMARY:After Hours hosted by Weatherly Inn
DESCRIPTION:
X-ALT-DESC;FMTTYPE=text/html:
LOCATION:Weatherly Inn Renton
UID:e.16.13586
SEQUENCE:3
DTSTAMP:20260419T162714Z
URL:https://chamber.gorenton.com/events/details/after-hours-hosted-by-weatherly-inn-13586
END:VEVENT

END:VCALENDAR
