BEGIN:VCALENDAR
VERSION:2.0
PRODID:-//ChamberMaster//Event Calendar 2.0//EN
METHOD:PUBLISH
X-PUBLISHED-TTL:P3D
REFRESH-INTERVAL:P3D
CALSCALE:GREGORIAN
BEGIN:VEVENT
DTSTART:20190816T000000Z
DTEND:20190816T020000Z
X-MICROSOFT-CDO-ALLDAYEVENT:FALSE
SUMMARY:After Hours with Molly Caribean Travels\, Scout & Cellars Clean Crafted Wines
DESCRIPTION:August After Hours\n\nThursday\, August 15th at Renton Chamber of Commerce (625 S 4th St) from 5 pm - 7 pm.\n\nCome join the August After Hours\, sponsored by Jessica Clements (from Scout & Cellars Clean Crafted Wines) and Molly Sumption (from Molly's Caribbean Travel) as they host the August After Hours at the Renton Chamber of Commerce.\n\nWith great food - Sushi rolls\, Edamame (green soy bean)\, Yakisoba (fried noodle) and Gyoza (pot sticker)- provided by Chamber member\, New Zen Blissful Japanese Cuisine.\n\n\n\nRefreshments\, networking and opportunity to learn about other Chamber businesses.\n\nNO CHARGE to attend (only charge if you pop up*). Headcount requested. \n\n\n\nBONUS!! Are you a business/vendor with a pop up promo opportunity? "Pop Up" with your table\, goods/services and other promotional material at this event to provide that added visual to After Hours guests.\n\n$20* for a member $40* for a nonmember\n\nProjected attendance: 150\n\n*we also ask each vendor to share the event on social media and spread the word of their participation in the event to their client base\n\n\n\nAre you a restaurant that would like to showcase your menu and talents? Please reach out for potential caterer showcase opportunities! $-0- for members $-0- for nonmembers\n\nPlease reach out to me and let me know if you are interested in this "pop up" opportunity by August 11\, 2019.\n\n\n\nDiane Dobson\n\nDirector\n\nRenton Chamber of Commerce\n\n625 S.4th St.\n\nRenton\, WA 98057
X-ALT-DESC;FMTTYPE=text/html:August After Hours<br />\nThursday\, August 15th at Renton Chamber of Commerce (625 S 4th St) from 5 pm - 7 pm.<br />\n<strong>Come join the August After Hours\, sponsored by Jessica Clements (from Scout &amp\; Cellars Clean Crafted Wines) and Molly Sumption (from Molly&#39\;s Caribbean Travel) as they host the August After Hours at the Renton Chamber of Commerce.</strong><br />\n<strong>With great food</strong> - Sushi rolls\, Edamame (green soy bean)\, Yakisoba (fried noodle) and Gyoza (pot sticker)- <strong>provided by Chamber member\, New Zen Blissful Japanese Cuisine.<br />\n<br />\nRefreshments\, networking and opportunity to learn about other Chamber businesses.</strong><br />\n<strong>NO CHARGE to attend (only charge if you pop up*). Headcount requested. </strong><br />\n<br />\n<u><span style="background-color:#FFFF00\;">BONUS!! Are you a business/vendor with a pop up promo opportunity?</span></u><span style="background-color:#FFFF00\;"> &quot\;Pop Up&quot\; with your table\, goods/services and other promotional material at this event to provide that added visual to After Hours guests.</span><br />\n<span style="background-color:#FFFF00\;">$20* for a member $40* for a nonmember</span><br />\n<span style="background-color:#FFFF00\;">Projected attendance: 150</span><br />\n<span style="background-color:#FFFF00\;">*we also ask each vendor to share the event on social media and spread the word of their participation in the event to their client base</span><br />\n<br />\n<strong>Are you a restaurant that would like to showcase your menu and talents? Please reach out for potential caterer showcase opportunities! $-0- for members $-0- for nonmembers</strong><br />\nPlease reach out to me and let me know if you are interested in this &quot\;pop up&quot\; opportunity by August 11\, 2019.<br />\n<br />\nDiane Dobson<br />\nDirector<br />\nRenton Chamber of Commerce<br />\n625 S.4th St.<br />\nRenton\, WA 98057
LOCATION:625 S. 4th Street\, Renton\, WA 98057
UID:e.16.6618
SEQUENCE:3
DTSTAMP:20260423T233001Z
URL:https://chamber.gorenton.com/events/details/after-hours-with-molly-caribean-travels-scout-cellars-clean-crafted-wines-6618
END:VEVENT

END:VCALENDAR
