BEGIN:VCALENDAR
VERSION:2.0
PRODID:-//ChamberMaster//Event Calendar 2.0//EN
METHOD:PUBLISH
X-PUBLISHED-TTL:P3D
REFRESH-INTERVAL:P3D
CALSCALE:GREGORIAN
BEGIN:VEVENT
DTSTART;VALUE=DATE:20221209
DTEND;VALUE=DATE:20221210
TRANSP:TRANSPARENT
X-MICROSOFT-CDO-ALLDAYEVENT:TRUE
SUMMARY:Agape Love Winter Donation Drive
DESCRIPTION:Agape Love Winter Donation Drive!\n\nWe are collecting items to put in to Blessing Bags to give to those in need in our community.\n\nHats\n\nGlove\n\nScarves\n\nSocks\n\nHand & Foot Warmers\n\nGranola/Protein Bars\n\nBags of Nuts\n\nBottled Water\n\nGatorade\n\nPackages of Gum\n\nChap Stick\n\nWhite Wash Cloths\n\nLaundry Pods\n\nMouthwash\n\nGift Cards ( Fuel\, Fast Food\, Grocery)\n\nFinancial Donations also always welcome! \n\n\n\nDonations can be dropped at:\n\n?Celebration Foursquare Church\, 11840 148th Ave SE\, Renton\, WA 98059\n\nTue or Thurs\, 12-5pm\, Sunday\, 9:30-12pm\n\nor \n\nRenton Chamber of Commerce\, 625 S 4th Street\, Renton\, WA 98057\n\nM - F\, 10-4pm\n\n\n\nTHROUGH December 18th!
X-ALT-DESC;FMTTYPE=text/html:Agape Love Winter Donation Drive!<br />\nWe are collecting items to put in to Blessing Bags to give to those in need in our community.<br />\nHats<br />\nGlove<br />\nScarves<br />\nSocks<br />\nHand &amp\; Foot Warmers<br />\nGranola/Protein Bars<br />\nBags of Nuts<br />\nBottled Water<br />\nGatorade<br />\nPackages of Gum<br />\nChap Stick<br />\nWhite Wash Cloths<br />\nLaundry Pods<br />\nMouthwash<br />\nGift Cards ( Fuel\, Fast Food\, Grocery)<br />\nFinancial Donations also always welcome!&nbsp\;<br />\n<br />\n<em><strong>Donations can be dropped at:</strong></em><br />\n?Celebration Foursquare Church\, 11840 148th Ave SE\, Renton\, WA 98059<br />\nTue or Thurs\, 12-5pm\, Sunday\, 9:30-12pm<br />\nor&nbsp\;<br />\nRenton Chamber of Commerce\, 625 S 4th Street\, Renton\, WA 98057<br />\nM - F\, 10-4pm<br />\n<br />\n<em><strong>THROUGH December 18th!</strong></em>
LOCATION:Donations can be dropped at: ?Celebration Foursquare Church\, 11840 148th Ave SE\, Renton\, WA 98059 Tue or Thurs\, 12-5pm\, Sunday\, 9:30-12pm or Renton Chamber of Commerce\, 625 S 4th Street\, Renton\, WA 98057 M - F\, 10-4pm THROUGH December 18th!
UID:e.16.13661
SEQUENCE:3
DTSTAMP:20260419T151240Z
URL:https://chamber.gorenton.com/events/details/agape-love-winter-donation-drive-12-09-2022-13661
END:VEVENT

END:VCALENDAR
