BEGIN:VCALENDAR
VERSION:2.0
PRODID:-//ChamberMaster//Event Calendar 2.0//EN
METHOD:PUBLISH
X-PUBLISHED-TTL:P3D
REFRESH-INTERVAL:P3D
CALSCALE:GREGORIAN
BEGIN:VEVENT
DTSTART:20200305T150000Z
DTEND:20200306T000000Z
X-MICROSOFT-CDO-ALLDAYEVENT:FALSE
SUMMARY:Alliance Northwest: Where Government & Business Connect
DESCRIPTION:Alliance Northwest is the largest business-to-government conference in the Pacific Northwest. This event features a 100+ booth tradeshow\, keynote speakers\, high quality workshops and matchmaking session with government agencies and prime contractors.\n\n\n\nWHO SHOULD ATTEND?\n\n	Businesses interested in selling to the government and prime contractors.\n	Prime contractors and government buyers seeking to do outreach to small and diverse businesses.\n\nThis event attracts over 1000 attendees including the who's-who of government contracting. Alliance Northwest is the premier government contracting event in the region\, bringing together prime contractors\, government agencies and small businesses for a full day of relationship building.\n\n\n\nFor those firms who are experienced government contractors\, Alliance Northwest is the place to strengthen established relationships\, explore other government contracting opportunities and teaming opportunities\, and hear the marketplace's latest news and trends from the expert workshop speakers.\n\n\n\nIf you're new to government contracting\, you'll have an opportunity to meet government agency representatives\, explore sub-contracting opportunities with prime contractors and attend high-quality training workshops.
X-ALT-DESC;FMTTYPE=text/html:Alliance Northwest is the largest business-to-government conference in the Pacific Northwest. This event features a 100+ booth tradeshow\, keynote speakers\, high quality workshops and matchmaking session with government agencies and prime contractors.<br />\n<br />\nWHO SHOULD ATTEND?\n<ul>\n	<li>Businesses interested in selling to the government and prime contractors.</li>\n	<li>Prime contractors and government buyers seeking to do outreach to small and diverse businesses.</li>\n</ul>\nThis event attracts over 1000 attendees including the who&rsquo\;s-who of government contracting. Alliance Northwest is the premier government contracting event in the region\, bringing together prime contractors\, government agencies and small businesses for a full day of relationship building.<br />\n<br />\nFor those firms who are experienced government contractors\, Alliance Northwest is the place to strengthen established relationships\, explore other government contracting opportunities and teaming opportunities\, and hear the marketplace&rsquo\;s latest news and trends from the expert workshop speakers.<br />\n<br />\nIf you&rsquo\;re new to government contracting\, you&rsquo\;ll have an opportunity to meet government agency representatives\, explore sub-contracting opportunities with prime contractors and attend high-quality training workshops.
LOCATION:Washington State Fair Events Center Mattress Firm Showplex 110 9th Ave SW Puyallup\, WA 98371. Park in the Blue Parking Lot and enter through the Blue Gate.
UID:e.16.6756
SEQUENCE:3
DTSTAMP:20260423T131341Z
URL:https://chamber.gorenton.com/events/details/alliance-northwest-where-government-business-connect-6756
END:VEVENT

END:VCALENDAR
