BEGIN:VCALENDAR
VERSION:2.0
PRODID:-//ChamberMaster//Event Calendar 2.0//EN
METHOD:PUBLISH
X-PUBLISHED-TTL:P3D
REFRESH-INTERVAL:P3D
CALSCALE:GREGORIAN
BEGIN:VEVENT
DTSTART:20200211T200000Z
DTEND:20200211T210000Z
X-MICROSOFT-CDO-ALLDAYEVENT:FALSE
SUMMARY:Ambassador Meeting
DESCRIPTION:NOTE CHANGE OF DATE: \n\nMonthly Ambassador Meeting   \n\n \n\nThe meeting of the minds for some of the most active Renton Chamber of Commerce members and networkers.  This group meets monthly to discuss membership approach\, participation at events and generate/stimulate ideas relating to the Renton Chamber of Commerce future development.\n\n \n\nRegistration Closes 2/11/20 @ 10a (please try to get your head count in by 2/10 at 12p noon)
X-ALT-DESC;FMTTYPE=text/html:<p>NOTE CHANGE OF DATE:&nbsp\;</p>\n\n<p>Monthly Ambassador Meeting&nbsp\;&nbsp\;&nbsp\;</p>\n\n<p>&nbsp\;</p>\n\n<p><span style="display: inline !important\; float: none\; background-color: rgb(255\, 255\, 255)\; border-collapse: separate\; color: inherit\; direction: inherit\; empty-cells: show\; font-family: inherit\; font-size: inherit\; font-size-adjust: none\; font-stretch: inherit\; font-style: inherit\; font-variant: inherit\; font-weight: inherit\; letter-spacing: inherit\; line-height: 1.3\; orphans: 2\; overflow-wrap: inherit\; text-align: inherit\; text-decoration: none\; text-indent: inherit\; text-justify: inherit\; text-transform: inherit\; visibility: inherit\; -webkit-text-stroke-width: 0px\; white-space: inherit\; word-break: inherit\; word-spacing: inherit\;">The meeting of the minds for some of the most active Renton Chamber of Commerce members and networkers.&nbsp\; This group meets monthly to discuss membership approach\, participation at events and generate/stimulate ideas relating to the Renton Chamber of Commerce future development.</span><br style="background-attachment: scroll\; background-clip: border-box\; background-color: transparent\; background-image: none\; background-origin: padding-box\; background-position-x: 0%\; background-position-y: 0%\; background-repeat: repeat\; background-size: auto\; border-bottom-color: currentColor\; border-bottom-left-radius: 0px\; border-bottom-right-radius: 0px\; border-bottom-style: none\; border-bottom-width: medium\; border-collapse: separate\; border-image-outset: 0\; border-image-repeat: stretch\; border-image-slice: 100% 1 0\; border-image-source: none\; border-image-width: 1\; border-left-color: currentColor\; border-left-style: none\; border-left-width: medium\; border-right-color: currentColor\; border-right-style: none\; border-right-width: medium\; border-top-color: currentColor\; border-top-left-radius: 0px\; border-top-right-radius: 0px\; border-top-style: none\; border-top-width: medium\; bottom: auto\; box-sizing: content-box\; clear: none\; color: inherit\; content: normal\; direction: inherit\; display: inline\; empty-cells: show\; float: none\; font-family: inherit\; font-size: inherit\; font-size-adjust: none\; font-stretch: inherit\; font-style: inherit\; font-variant: inherit\; font-weight: inherit\; height: auto\; left: auto\; letter-spacing: inherit\; line-height: inherit\; margin-bottom: 0px\; margin-left: 0px\; margin-right: 0px\; margin-top: 0px\; max-height: none\; max-width: none\; min-height: initial\; min-width: initial\; opacity: 1\; orphans: 2\; outline-color: invert\; outline-offset: 0px\; outline-style: none\; outline-width: medium\; overflow: visible\; overflow-wrap: inherit\; padding-bottom: 0px\; padding-left: 0px\; padding-right: 0px\; padding-top: 0px\; position: static\; right: auto\; table-layout: auto\; text-align: inherit\; text-decoration: none\; text-indent: inherit\; text-justify: inherit\; text-overflow: clip\; text-transform: inherit\; top: auto\; vertical-align: baseline\; visibility: inherit\; -webkit-text-stroke-width: 0px\; white-space: inherit\; width: auto\; word-break: inherit\; word-spacing: inherit\; z-index: auto\;" />\n<span style="display: inline !important\; float: none\; background-color: rgb(255\, 255\, 255)\; border-collapse: separate\; color: inherit\; direction: inherit\; empty-cells: show\; font-family: inherit\; font-size: inherit\; font-size-adjust: none\; font-stretch: inherit\; font-style: inherit\; font-variant: inherit\; font-weight: inherit\; letter-spacing: inherit\; line-height: 1.3\; orphans: 2\; overflow-wrap: inherit\; text-align: inherit\; text-decoration: none\; text-indent: inherit\; text-justify: inherit\; text-transform: inherit\; visibility: inherit\; -webkit-text-stroke-width: 0px\; white-space: inherit\; word-break: inherit\; word-spacing: inherit\;">&nbsp\;</span></p>\n\n<p>Registration Closes 2/11/20 @ 10a (please try to get your head count in by 2/10 at 12p noon)</p>\n
LOCATION:Panera Bread 921 N 10th St Ste E Renton WA 98057
UID:e.16.3012
SEQUENCE:3
DTSTAMP:20260422T053709Z
URL:https://chamber.gorenton.com/events/details/ambassador-meeting-02-04-2020-3012
END:VEVENT

END:VCALENDAR
