BEGIN:VCALENDAR
VERSION:2.0
PRODID:-//ChamberMaster//Event Calendar 2.0//EN
METHOD:PUBLISH
X-PUBLISHED-TTL:P3D
REFRESH-INTERVAL:P3D
CALSCALE:GREGORIAN
BEGIN:VEVENT
DTSTART:20200115T020000Z
DTEND:20200115T040000Z
X-MICROSOFT-CDO-ALLDAYEVENT:FALSE
SUMMARY:American Cancer Society Relay 2020 Kick Off Rally
DESCRIPTION:Bring your team out for an engaging info session and celebration to kick off the 2020 Renton Relay for Life season.  Enjoy refreshments and build community! Contact Gundersen.brenda@gmail.com with questions
X-ALT-DESC;FMTTYPE=text/html:Bring your team out for an engaging info session and celebration to kick off the 2020 Renton Relay&nbsp\;for Life season.&nbsp\; Enjoy refreshments and build community! Contact Gundersen.brenda@gmail.com with questions
LOCATION:Merrill Gardens Renton Centre 104 Burnett Ave S Renton WA 98057
UID:e.16.6692
SEQUENCE:3
DTSTAMP:20260423T162515Z
URL:https://chamber.gorenton.com/events/details/american-cancer-society-relay-2020-kick-off-rally-6692
END:VEVENT

END:VCALENDAR
