BEGIN:VCALENDAR
VERSION:2.0
PRODID:-//ChamberMaster//Event Calendar 2.0//EN
METHOD:PUBLISH
X-PUBLISHED-TTL:P3D
REFRESH-INTERVAL:P3D
CALSCALE:GREGORIAN
BEGIN:VEVENT
DTSTART:20220430T180000Z
DTEND:20220430T230000Z
X-MICROSOFT-CDO-ALLDAYEVENT:FALSE
SUMMARY:Annual Mother's Day Craft Fair
DESCRIPTION:Find the perfect gift for a special someone at Theatre33's Annual Mother's Day Craft Fair! Unique and handcrafted gifts presented by Theatre33 volunteers and friends of the Theatre: candles\, bath salts\, soaps\, cards\, paintings\, candles\, crochet gifts\, carved wood art\, books\, plant arrangements\, home decor\, bread\, pastries\, macarons and gemstone jewelry. Many items are presented by crafters from Renton!  We have several teen entrepreneurs who are amazing crafters!  10% of proceeds benefit Theatre33 - this year\, these funds will help purchase costumes for the upcoming youth productions.  More information at https://www.facebook.com/events/989978574987214/
X-ALT-DESC;FMTTYPE=text/html:<span style="color:rgb(5\, 5\, 5)\; font-family:segoe ui historic\,segoe ui\,helvetica\,arial\,sans-serif\; font-size:15px">Find the perfect gift for a special someone at Theatre33&#39\;s Annual Mother&#39\;s Day Craft Fair! Unique and handcrafted gifts presented by Theatre33 volunteers and friends of the Theatre: candles\, bath salts\, soaps\, cards\, paintings\, candles\, crochet gifts\, carved wood art\, books\, plant arrangements\, home decor\, bread\, pastries\, macarons and gemstone jewelry. Many items are presented by crafters from Renton!&nbsp\; We have several teen entrepreneurs who are amazing crafters!&nbsp\; 10% of proceeds benefit Theatre33 - this year\, these funds will help purchase costumes for the upcoming youth productions.&nbsp\; More information at&nbsp\;</span>https://www.facebook.com/events/989978574987214/
LOCATION:Theatre33
UID:e.16.11510
SEQUENCE:3
DTSTAMP:20260420T014338Z
URL:https://chamber.gorenton.com/events/details/annual-mother-s-day-craft-fair-11510
END:VEVENT

END:VCALENDAR
