BEGIN:VCALENDAR
VERSION:2.0
PRODID:-//ChamberMaster//Event Calendar 2.0//EN
METHOD:PUBLISH
X-PUBLISHED-TTL:P3D
REFRESH-INTERVAL:P3D
CALSCALE:GREGORIAN
BEGIN:VEVENT
DTSTART:20220421T230000Z
DTEND:20220422T010000Z
X-MICROSOFT-CDO-ALLDAYEVENT:FALSE
SUMMARY:April After Hours at the Renton Chamber hosted by the Multi-Service Center
DESCRIPTION:Join the Renton Chamber of Commerce and the Multi-Service Center for the April After Hours!\n\n \n\nFood\, drink and networking fun!
X-ALT-DESC;FMTTYPE=text/html:<p>Join the Renton Chamber of Commerce and the Multi-Service Center for the April After Hours!</p>\n\n<p>&nbsp\;</p>\n\n<p>Food\, drink and networking fun!&nbsp\;&nbsp\;&nbsp\;&nbsp\;&nbsp\;&nbsp\;&nbsp\;&nbsp\;</p>\n
LOCATION:Renton Chamber of Commerce 625 S 4th Street\, Renton (located in the old train station)
UID:e.16.11460
SEQUENCE:3
DTSTAMP:20260420T014621Z
URL:https://chamber.gorenton.com/events/details/april-after-hours-at-the-renton-chamber-hosted-by-the-multi-service-center-11460
END:VEVENT

END:VCALENDAR
